BEGIN:VCALENDAR
VERSION:2.0
PRODID:-//InvisionCommunity Events 4.7.23//EN
METHOD:PUBLISH
CALSCALE:GREGORIAN
REFRESH-INTERVAL:PT15M
X-PUBLISHED-TTL:PT15M
X-WR-CALNAME:At My TV
NAME:At My TV
BEGIN:VTIMEZONE
TZID:Europe/London
TZURL:http://tzurl.org/zoneinfo/Europe/London
X-LIC-LOCATION:Europe/London
BEGIN:DAYLIGHT
TZOFFSETFROM:+0000
TZOFFSETTO:+0100
TZNAME:BST
DTSTART:20210328T020000Z
RRULE:FREQ=YEARLY;BYMONTH=3;BYDAY=-1SU
END:DAYLIGHT
BEGIN:STANDARD
TZOFFSETFROM:+0100
TZOFFSETTO:+0000
TZNAME:GMT
DTSTART:20211031T020000Z
RRULE:FREQ=YEARLY;BYMONTH=10;BYDAY=-1SU
END:STANDARD
END:VTIMEZONE
BEGIN:VEVENT
SUMMARY:Married at First Sight 12x1 - Season Opener
DTSTAMP:20201231T065929Z
SEQUENCE:0
UID:121785-2-841ebed20eb198c4569419e99b7bf40a@themidnightzone.com
ORGANIZER;CN="Midnight":midnight@themidnightzone.com
DESCRIPTION:Married at First Sight heads down south to Atlanta for seaso
	n12 of the Critic's Choice Award-winning hit series\, premieringwith a thr
	ee-hour episode\, January 13\, 2021 at 8pm ET/PT onLifetime. Season 12 is 
	set to be the most romantic\, diverse\,and surprising season yet as ten br
	ave-but-loveless singlesmeet their new spouse at the altar and enter a leg
	ally bindingmarriage at first sight. With one groom pushing forty andanoth
	er who has been divorced (both MAFS firsts)\, new insightsare brought to a
	 journey that is always full of high-stakes.While some marriages will surv
	ive\, one couple confronts abombshell that no one saw coming. As the seaso
	n continues\,each week will feature two-hour episodes and capture eachcoup
	le's emotional journey as they go from wedding tohoneymoon\, early nesting
	 and eventually dealing with the dailystruggles of working on their marria
	ge. After several weekstogether\, each couple must make a decision: do the
	y remaintogether for a happily ever after\, or decide to divorce and gothe
	ir separate ways?
DTSTART:20210114T010000Z
DTEND:20210114T030000Z
END:VEVENT
END:VCALENDAR
