BEGIN:VCALENDAR
VERSION:2.0
PRODID:-//InvisionCommunity Events 4.7.23//EN
METHOD:PUBLISH
CALSCALE:GREGORIAN
REFRESH-INTERVAL:PT15M
X-PUBLISHED-TTL:PT15M
X-WR-CALNAME:At My TV
NAME:At My TV
BEGIN:VTIMEZONE
TZID:Europe/London
TZURL:http://tzurl.org/zoneinfo/Europe/London
X-LIC-LOCATION:Europe/London
BEGIN:DAYLIGHT
TZOFFSETFROM:+0000
TZOFFSETTO:+0100
TZNAME:BST
DTSTART:20210328T020000Z
RRULE:FREQ=YEARLY;BYMONTH=3;BYDAY=-1SU
END:DAYLIGHT
BEGIN:STANDARD
TZOFFSETFROM:+0100
TZOFFSETTO:+0000
TZNAME:GMT
DTSTART:20211031T020000Z
RRULE:FREQ=YEARLY;BYMONTH=10;BYDAY=-1SU
END:STANDARD
END:VTIMEZONE
BEGIN:VEVENT
SUMMARY:The Graham Norton Show 28x13 - Keeley Hawes\, Noel Clarke\, 
	RobBeckett\, Rebel Wilson\, M. Night Shyamalan\, Jake Bugg
DTSTAMP:20210101T065928Z
SEQUENCE:0
UID:121820-2-841ebed20eb198c4569419e99b7bf40a@themidnightzone.com
ORGANIZER;CN="Midnight":midnight@themidnightzone.com
DESCRIPTION:Among the guests joining Graham tonight: Bodyguard and Durre
	llsstar Keeley Hawes\, in new drama series Finding Alice\, actorand writer
	 Noel Clarke (Doctor Who) back in cop dramaBulletproof: South Africa\, hil
	arious comic Rob Beckett\,Hollywood star Rebel Wilson\, teaming up with An
	t Middleton(SAS: Who Dares Wins) for a Mexican adventure in StraightTalkin
	g and hit film-maker M Night Shyamalan\, talking abouthis new psychologica
	l horror series Servant. With music fromJake Bugg\, who performs his curre
	nt single All I Need.
DTSTART:20210115T224500Z
DTEND:20210115T233500Z
END:VEVENT
END:VCALENDAR
