BEGIN:VCALENDAR
VERSION:2.0
PRODID:-//InvisionCommunity Events 4.7.23//EN
METHOD:PUBLISH
CALSCALE:GREGORIAN
REFRESH-INTERVAL:PT15M
X-PUBLISHED-TTL:PT15M
X-WR-CALNAME:Pogdesign
NAME:Pogdesign
BEGIN:VTIMEZONE
TZID:Europe/London
TZURL:http://tzurl.org/zoneinfo/Europe/London
X-LIC-LOCATION:Europe/London
BEGIN:DAYLIGHT
TZOFFSETFROM:+0000
TZOFFSETTO:+0100
TZNAME:BST
DTSTART:20210328T020000Z
RRULE:FREQ=YEARLY;BYMONTH=3;BYDAY=-1SU
END:DAYLIGHT
BEGIN:STANDARD
TZOFFSETFROM:+0100
TZOFFSETTO:+0000
TZNAME:GMT
DTSTART:20211031T020000Z
RRULE:FREQ=YEARLY;BYMONTH=10;BYDAY=-1SU
END:STANDARD
END:VTIMEZONE
BEGIN:VEVENT
SUMMARY:Blue Bloods 11x5 - Spilling Secrets
DTSTAMP:20210102T110003Z
SEQUENCE:0
UID:121901-3-841ebed20eb198c4569419e99b7bf40a@themidnightzone.com
ORGANIZER;CN="Midnight":midnight@themidnightzone.com
DESCRIPTION:Eddie and her partner\, Officer Rachel Witten\, are heralded
	for their bravery for stopping an active shooter\, until acivilian comes f
	orward to accuse them of faking the incident aspart of a government conspi
	racy. Also\, Frank pries into adecades-long history of cash payments his f
	ather Henry has beenmaking to an unknown recipient\, Danny and Baez find t
	hemselvesin the middle of a fierce sibling rivalry between two brothersas 
	they investigate the murder of the men's father\, and Seancontends with hi
	s school locker being vandalized withanti-police sentiment.
DTSTART:20210122T220000Z
DTEND:20210122T230000Z
END:VEVENT
END:VCALENDAR
