BEGIN:VCALENDAR
VERSION:2.0
PRODID:-//InvisionCommunity Events 4.7.23//EN
METHOD:PUBLISH
CALSCALE:GREGORIAN
REFRESH-INTERVAL:PT15M
X-PUBLISHED-TTL:PT15M
X-WR-CALNAME:Pogdesign
NAME:Pogdesign
BEGIN:VTIMEZONE
TZID:Europe/London
TZURL:http://tzurl.org/zoneinfo/Europe/London
X-LIC-LOCATION:Europe/London
BEGIN:DAYLIGHT
TZOFFSETFROM:+0000
TZOFFSETTO:+0100
TZNAME:BST
DTSTART:20210328T020000Z
RRULE:FREQ=YEARLY;BYMONTH=3;BYDAY=-1SU
END:DAYLIGHT
BEGIN:STANDARD
TZOFFSETFROM:+0100
TZOFFSETTO:+0000
TZNAME:GMT
DTSTART:20211031T020000Z
RRULE:FREQ=YEARLY;BYMONTH=10;BYDAY=-1SU
END:STANDARD
END:VTIMEZONE
BEGIN:VEVENT
SUMMARY:The Resident 4x2 - Mina's Kangaroo Court
DTSTAMP:20210106T114803Z
SEQUENCE:0
UID:122055-3-841ebed20eb198c4569419e99b7bf40a@themidnightzone.com
ORGANIZER;CN="Midnight":midnight@themidnightzone.com
DESCRIPTION:When Cain's elective surgery patient returns withcomplicatio
	ns\, Mina and Raptor butt heads over how to handlethe situation. Conrad an
	d Devon treat a local Congresswoman whowithholds information that could pr
	event her from receivingproper treatment\, causing Devon to open up about 
	his grief. Inthe wake of losing many colleagues to the virus\, Bell worrie
	swho would be there for him in a moment of crisis and findshimself mining 
	his own past to find his estranged formerstepson\, elite plastic surgeon D
	r. Jake Wong. Meanwhile\,Logan Kim finds himself on the chopping block whe
	n the doctorsare questioned about his actions during the pandemic.
DTSTART:20210119T200000Z
DTEND:20210119T210000Z
END:VEVENT
END:VCALENDAR
