BEGIN:VCALENDAR
VERSION:2.0
PRODID:-//InvisionCommunity Events 4.7.23//EN
METHOD:PUBLISH
CALSCALE:GREGORIAN
REFRESH-INTERVAL:PT15M
X-PUBLISHED-TTL:PT15M
X-WR-CALNAME:Pogdesign
NAME:Pogdesign
BEGIN:VTIMEZONE
TZID:Europe/London
TZURL:http://tzurl.org/zoneinfo/Europe/London
X-LIC-LOCATION:Europe/London
BEGIN:DAYLIGHT
TZOFFSETFROM:+0000
TZOFFSETTO:+0100
TZNAME:BST
DTSTART:20210328T020000Z
RRULE:FREQ=YEARLY;BYMONTH=3;BYDAY=-1SU
END:DAYLIGHT
BEGIN:STANDARD
TZOFFSETFROM:+0100
TZOFFSETTO:+0000
TZNAME:GMT
DTSTART:20211031T020000Z
RRULE:FREQ=YEARLY;BYMONTH=10;BYDAY=-1SU
END:STANDARD
END:VTIMEZONE
BEGIN:VEVENT
SUMMARY:NCIS: New Orleans 7x7 - Leda and the Swan (1)
DTSTAMP:20210110T124804Z
SEQUENCE:0
UID:122208-3-841ebed20eb198c4569419e99b7bf40a@themidnightzone.com
ORGANIZER;CN="Midnight":midnight@themidnightzone.com
DESCRIPTION:When a Navy therapist with a high level of security clearanc
	eis murdered\, Pride and the team discover that she was workingaround the 
	system to get justice for victims of sexual assault.Meanwhile\, Carter's m
	other confronts him when he refuses totalk to the FBI for a background che
	ck on her behalf\, andSebastian starts to form a bond with a key witness w
	ho was hithard by the COVID-19 pandemic.
DTSTART:20210117T210000Z
DTEND:20210117T220000Z
END:VEVENT
END:VCALENDAR
