BEGIN:VCALENDAR
VERSION:2.0
PRODID:-//InvisionCommunity Events 4.7.23//EN
METHOD:PUBLISH
CALSCALE:GREGORIAN
REFRESH-INTERVAL:PT15M
X-PUBLISHED-TTL:PT15M
X-WR-CALNAME:Pogdesign
NAME:Pogdesign
BEGIN:VTIMEZONE
TZID:Europe/London
TZURL:http://tzurl.org/zoneinfo/Europe/London
X-LIC-LOCATION:Europe/London
BEGIN:DAYLIGHT
TZOFFSETFROM:+0000
TZOFFSETTO:+0100
TZNAME:BST
DTSTART:20210328T020000Z
RRULE:FREQ=YEARLY;BYMONTH=3;BYDAY=-1SU
END:DAYLIGHT
BEGIN:STANDARD
TZOFFSETFROM:+0100
TZOFFSETTO:+0000
TZNAME:GMT
DTSTART:20211031T020000Z
RRULE:FREQ=YEARLY;BYMONTH=10;BYDAY=-1SU
END:STANDARD
END:VTIMEZONE
BEGIN:VEVENT
SUMMARY:Batwoman 2x2 - Prior Criminal History
DTSTAMP:20210111T124804Z
SEQUENCE:0
UID:122239-3-841ebed20eb198c4569419e99b7bf40a@themidnightzone.com
ORGANIZER;CN="Midnight":midnight@themidnightzone.com
DESCRIPTION:After her quick spin in the Batgear\, Ryan Wilder is back to
	facing the daily challenges of life as herself. Meanwhile\,Alice has a new
	\, devious plan to get the attention of bothGotham and Safiyah. With Kate 
	still missing and the city in anuprising\, Luke and Mary are desperate to 
	find a stand in. In apinch\, Ryan dons the suit again and comes face-to-fa
	ce withAlice for the first time. Back at Crows Headquarters\, Sophieand Co
	mmander Kane try to uncover who may have had a vendettaagainst Kate.
DTSTART:20210124T200000Z
DTEND:20210124T210000Z
END:VEVENT
END:VCALENDAR
