BEGIN:VCALENDAR
VERSION:2.0
PRODID:-//InvisionCommunity Events 4.7.23//EN
METHOD:PUBLISH
CALSCALE:GREGORIAN
REFRESH-INTERVAL:PT15M
X-PUBLISHED-TTL:PT15M
X-WR-CALNAME:Pogdesign
NAME:Pogdesign
BEGIN:VTIMEZONE
TZID:Europe/London
TZURL:http://tzurl.org/zoneinfo/Europe/London
X-LIC-LOCATION:Europe/London
BEGIN:DAYLIGHT
TZOFFSETFROM:+0000
TZOFFSETTO:+0100
TZNAME:BST
DTSTART:20210328T020000Z
RRULE:FREQ=YEARLY;BYMONTH=3;BYDAY=-1SU
END:DAYLIGHT
BEGIN:STANDARD
TZOFFSETFROM:+0100
TZOFFSETTO:+0000
TZNAME:GMT
DTSTART:20211031T020000Z
RRULE:FREQ=YEARLY;BYMONTH=10;BYDAY=-1SU
END:STANDARD
END:VTIMEZONE
BEGIN:VEVENT
SUMMARY:Big Sky 1x7 - I Fall to Pieces
DTSTAMP:20210121T074804Z
SEQUENCE:0
UID:122689-3-841ebed20eb198c4569419e99b7bf40a@themidnightzone.com
ORGANIZER;CN="Midnight":midnight@themidnightzone.com
DESCRIPTION:Cassie and Jenny work against the clock to find Ronald andpr
	ove Legarski's guilt\, calling on Grace to join their effortsand bravely h
	elp them in the process. Just when all the piecesstart falling into place\
	, Ronald's emotions get the best ofhim as he makes an unthinkable decision
	\, even for him. Merileeplays an unwilling and life-changing role in turni
	ng the caseon its head.
DTSTART:20210202T220000Z
DTEND:20210202T230000Z
END:VEVENT
END:VCALENDAR
