BEGIN:VCALENDAR
VERSION:2.0
PRODID:-//InvisionCommunity Events 4.7.23//EN
METHOD:PUBLISH
CALSCALE:GREGORIAN
REFRESH-INTERVAL:PT15M
X-PUBLISHED-TTL:PT15M
X-WR-CALNAME:At My TV
NAME:At My TV
BEGIN:VTIMEZONE
TZID:Europe/London
TZURL:http://tzurl.org/zoneinfo/Europe/London
X-LIC-LOCATION:Europe/London
BEGIN:DAYLIGHT
TZOFFSETFROM:+0000
TZOFFSETTO:+0100
TZNAME:BST
DTSTART:20210328T020000Z
RRULE:FREQ=YEARLY;BYMONTH=3;BYDAY=-1SU
END:DAYLIGHT
BEGIN:STANDARD
TZOFFSETFROM:+0100
TZOFFSETTO:+0000
TZNAME:GMT
DTSTART:20211031T020000Z
RRULE:FREQ=YEARLY;BYMONTH=10;BYDAY=-1SU
END:STANDARD
END:VTIMEZONE
BEGIN:VEVENT
SUMMARY:Blue Bloods 11x6 - The New Normal
DTSTAMP:20210123T122317Z
SEQUENCE:0
UID:122824-2-841ebed20eb198c4569419e99b7bf40a@themidnightzone.com
ORGANIZER;CN="Midnight":midnight@themidnightzone.com
DESCRIPTION:The Reagans confront hard choices on the job when Frank deal
	swith a police captain who's losing his grip over his precinct\,and Danny 
	faces backlash from Baez and Internal Affairs over atough call he made in 
	the field. Also\, Jamie and Eddie areshown the ropes of field crisis manag
	ement when a social workeris assigned to them for a ride-a-long\, and Erin
	 weighs theconsequences of a dangerous criminal's release under new bailla
	ws.
DTSTART:20210206T030000Z
DTEND:20210206T040000Z
END:VEVENT
END:VCALENDAR
