BEGIN:VCALENDAR
VERSION:2.0
PRODID:-//InvisionCommunity Events 4.7.23//EN
METHOD:PUBLISH
CALSCALE:GREGORIAN
REFRESH-INTERVAL:PT15M
X-PUBLISHED-TTL:PT15M
X-WR-CALNAME:Pogdesign
NAME:Pogdesign
BEGIN:VTIMEZONE
TZID:Europe/London
TZURL:http://tzurl.org/zoneinfo/Europe/London
X-LIC-LOCATION:Europe/London
BEGIN:DAYLIGHT
TZOFFSETFROM:+0000
TZOFFSETTO:+0100
TZNAME:BST
DTSTART:20210328T020000Z
RRULE:FREQ=YEARLY;BYMONTH=3;BYDAY=-1SU
END:DAYLIGHT
BEGIN:STANDARD
TZOFFSETFROM:+0100
TZOFFSETTO:+0000
TZNAME:GMT
DTSTART:20211031T020000Z
RRULE:FREQ=YEARLY;BYMONTH=10;BYDAY=-1SU
END:STANDARD
END:VTIMEZONE
BEGIN:VEVENT
SUMMARY:Prodigal Son 2x5 - Bad Manners
DTSTAMP:20210127T100004Z
SEQUENCE:0
UID:122977-3-841ebed20eb198c4569419e99b7bf40a@themidnightzone.com
ORGANIZER;CN="Midnight":midnight@themidnightzone.com
DESCRIPTION:Malcolm and Ainsley both race to find the killer in theso-ca
	lled \"Debutante Slayings\"\, but Ainsley'spersistence has Malcolm worried
	 about what her actual motivemight be. While Martin is thrilled to see his
	 daughter'spassion in the field\, Jessica suggests she and Ainsley take av
	acation. Meanwhile\, JT meets with his union rep to decide ifhe should fil
	e an official complaint against the cop whodiscriminated against him.
DTSTART:20210209T210000Z
DTEND:20210209T220000Z
END:VEVENT
END:VCALENDAR
