BEGIN:VCALENDAR
VERSION:2.0
PRODID:-//InvisionCommunity Events 4.7.23//EN
METHOD:PUBLISH
CALSCALE:GREGORIAN
REFRESH-INTERVAL:PT15M
X-PUBLISHED-TTL:PT15M
X-WR-CALNAME:Pogdesign
NAME:Pogdesign
BEGIN:VTIMEZONE
TZID:Europe/London
TZURL:http://tzurl.org/zoneinfo/Europe/London
X-LIC-LOCATION:Europe/London
BEGIN:DAYLIGHT
TZOFFSETFROM:+0000
TZOFFSETTO:+0100
TZNAME:BST
DTSTART:20210328T020000Z
RRULE:FREQ=YEARLY;BYMONTH=3;BYDAY=-1SU
END:DAYLIGHT
BEGIN:STANDARD
TZOFFSETFROM:+0100
TZOFFSETTO:+0000
TZNAME:GMT
DTSTART:20211031T020000Z
RRULE:FREQ=YEARLY;BYMONTH=10;BYDAY=-1SU
END:STANDARD
END:VTIMEZONE
BEGIN:VEVENT
SUMMARY:Ancient Aliens 14x6 - William Shatner Meets Ancient Aliens
DTSTAMP:20210130T104802Z
SEQUENCE:0
UID:123126-3-841ebed20eb198c4569419e99b7bf40a@themidnightzone.com
ORGANIZER;CN="Midnight":midnight@themidnightzone.com
DESCRIPTION:In this extraordinary two-hour special\, Shatner will bringt
	hought-provoking questions to the leading experts of the show.Ancient Astr
	onaut theorists Giorgio Tsoukalos\, Erich von Dniken\, David Childress\, W
	illiam Henry and Linda Moulton Howewill be joined by former British Minist
	ry of Defenseinvestigator Nick Pope\, rocket scientist Dr. Travis Taylor\,
	theoretical physicist Dr. Michio Kaku\, and religious historyexperts Rabbi
	 Ariel Bar Tzadok and Reverend Michael Carter.They will explore everything
	 from human origins togroundbreaking archaeological finds\, new understand
	ings of thecosmos and the profound possibility that we are not alone inthe
	 universe.
DTSTART:20210212T210000Z
DTEND:20210212T220000Z
END:VEVENT
END:VCALENDAR
