BEGIN:VCALENDAR
VERSION:2.0
PRODID:-//InvisionCommunity Events 4.7.23//EN
METHOD:PUBLISH
CALSCALE:GREGORIAN
REFRESH-INTERVAL:PT15M
X-PUBLISHED-TTL:PT15M
X-WR-CALNAME:Pogdesign
NAME:Pogdesign
BEGIN:VTIMEZONE
TZID:Europe/London
TZURL:http://tzurl.org/zoneinfo/Europe/London
X-LIC-LOCATION:Europe/London
BEGIN:DAYLIGHT
TZOFFSETFROM:+0000
TZOFFSETTO:+0100
TZNAME:BST
DTSTART:20210328T020000Z
RRULE:FREQ=YEARLY;BYMONTH=3;BYDAY=-1SU
END:DAYLIGHT
BEGIN:STANDARD
TZOFFSETFROM:+0100
TZOFFSETTO:+0000
TZNAME:GMT
DTSTART:20211031T020000Z
RRULE:FREQ=YEARLY;BYMONTH=10;BYDAY=-1SU
END:STANDARD
END:VTIMEZONE
BEGIN:VEVENT
SUMMARY:Superman & Lois 1x1 - Pilot
DTSTAMP:20210210T130004Z
SEQUENCE:0
UID:123595-3-841ebed20eb198c4569419e99b7bf40a@themidnightzone.com
ORGANIZER;CN="Midnight":midnight@themidnightzone.com
DESCRIPTION:When Clark and Lois return to Smallville to handle some Kent
	family business and also dealing with all the stress\,pressures and comple
	xities of whether or not their sonsJonathan and Jordan could inherit their
	 father's Kryptoniansuperpowers as they grow older. Clark and Lois are rea
	cquaintedwith Lana Lang\, a local loan officer who also happens to beClark
	's first love\, her Fire Chief husband Kyle Cushing andrebellious daughter
	\, Sarah. Of course\, there's never a dullmoment in the life of a superher
	o\, especially with Lois'father\, General Samuel Lane looking for Superman
	 to vanquish avillain or save the day at a moment's notice. Meanwhile\,Sma
	llville is set to be upended when both a mysterious strangerand impassione
	d self-made mogul Morgan Edge enter their lives.
DTSTART:20210223T200000Z
DTEND:20210223T210000Z
END:VEVENT
END:VCALENDAR
