BEGIN:VCALENDAR
VERSION:2.0
PRODID:-//InvisionCommunity Events 4.7.23//EN
METHOD:PUBLISH
CALSCALE:GREGORIAN
REFRESH-INTERVAL:PT15M
X-PUBLISHED-TTL:PT15M
X-WR-CALNAME:Pogdesign
NAME:Pogdesign
BEGIN:VTIMEZONE
TZID:Europe/London
TZURL:http://tzurl.org/zoneinfo/Europe/London
X-LIC-LOCATION:Europe/London
BEGIN:DAYLIGHT
TZOFFSETFROM:+0000
TZOFFSETTO:+0100
TZNAME:BST
DTSTART:20210328T020000Z
RRULE:FREQ=YEARLY;BYMONTH=3;BYDAY=-1SU
END:DAYLIGHT
BEGIN:STANDARD
TZOFFSETFROM:+0100
TZOFFSETTO:+0000
TZNAME:GMT
DTSTART:20211031T020000Z
RRULE:FREQ=YEARLY;BYMONTH=10;BYDAY=-1SU
END:STANDARD
END:VTIMEZONE
BEGIN:VEVENT
SUMMARY:Tell Me Your Secrets 1x6 - I'm A Good Person
DTSTAMP:20210211T050005Z
SEQUENCE:0
UID:123598-3-841ebed20eb198c4569419e99b7bf40a@themidnightzone.com
ORGANIZER;CN="Midnight":midnight@themidnightzone.com
DESCRIPTION:Emma determines to start her life again to be the mother her
	daughter deserves. Mary and John face their own exiles fromtheir respectiv
	e worlds and despite her horror at John's truenature she is locked in his 
	chilling power game and mustcontinue her connection in the hope it leads t
	o the truth abouther daughter. Her world falls apart when Theresa's remain
	s arefound.
DTSTART:20210224T235900Z
DTEND:20210225T005900Z
END:VEVENT
END:VCALENDAR
