BEGIN:VCALENDAR
VERSION:2.0
PRODID:-//InvisionCommunity Events 4.7.23//EN
METHOD:PUBLISH
CALSCALE:GREGORIAN
REFRESH-INTERVAL:PT15M
X-PUBLISHED-TTL:PT15M
X-WR-CALNAME:Pogdesign
NAME:Pogdesign
BEGIN:VTIMEZONE
TZID:Europe/London
TZURL:http://tzurl.org/zoneinfo/Europe/London
X-LIC-LOCATION:Europe/London
BEGIN:DAYLIGHT
TZOFFSETFROM:+0000
TZOFFSETTO:+0100
TZNAME:BST
DTSTART:20210328T020000Z
RRULE:FREQ=YEARLY;BYMONTH=3;BYDAY=-1SU
END:DAYLIGHT
BEGIN:STANDARD
TZOFFSETFROM:+0100
TZOFFSETTO:+0000
TZNAME:GMT
DTSTART:20211031T020000Z
RRULE:FREQ=YEARLY;BYMONTH=10;BYDAY=-1SU
END:STANDARD
END:VTIMEZONE
BEGIN:VEVENT
SUMMARY:Tell Me Your Secrets 1x7 - Now You See Me
DTSTAMP:20210212T052426Z
SEQUENCE:0
UID:123668-3-841ebed20eb198c4569419e99b7bf40a@themidnightzone.com
ORGANIZER;CN="Midnight":midnight@themidnightzone.com
DESCRIPTION:Faced with news of Theresa's murder\, Emma begins to fear wh
	atshe may be capable of having done. A local woman with secondsight trigge
	rs chilling memories that point to Emma'sinvolvement in Theresa's death an
	d lead to a disturbingdiscovery of further damage to girls at the group ho
	me. Johndraws closer to an unsuspecting Emma and Mary clears her lifeof ev
	erything except revenge.
DTSTART:20210225T235900Z
DTEND:20210226T005900Z
END:VEVENT
END:VCALENDAR
