BEGIN:VCALENDAR
VERSION:2.0
PRODID:-//InvisionCommunity Events 4.7.23//EN
METHOD:PUBLISH
CALSCALE:GREGORIAN
REFRESH-INTERVAL:PT15M
X-PUBLISHED-TTL:PT15M
X-WR-CALNAME:At My TV
NAME:At My TV
BEGIN:VTIMEZONE
TZID:Europe/London
TZURL:http://tzurl.org/zoneinfo/Europe/London
X-LIC-LOCATION:Europe/London
BEGIN:DAYLIGHT
TZOFFSETFROM:+0000
TZOFFSETTO:+0100
TZNAME:BST
DTSTART:20210328T020000Z
RRULE:FREQ=YEARLY;BYMONTH=3;BYDAY=-1SU
END:DAYLIGHT
BEGIN:STANDARD
TZOFFSETFROM:+0100
TZOFFSETTO:+0000
TZNAME:GMT
DTSTART:20211031T020000Z
RRULE:FREQ=YEARLY;BYMONTH=10;BYDAY=-1SU
END:STANDARD
END:VTIMEZONE
BEGIN:VEVENT
SUMMARY:Blue Bloods 11x8 - More Than Meets the Eye
DTSTAMP:20210221T010302Z
SEQUENCE:0
UID:123759-2-841ebed20eb198c4569419e99b7bf40a@themidnightzone.com
ORGANIZER;CN="Midnight":midnight@themidnightzone.com
DESCRIPTION:Erin tries not to feel overpowered as her new boss shadows h
	erat work just as she's trying to get a nervous eye-witness toreveal the i
	dentity of who shot her boyfriend. Also\, theserial killer who previously 
	held Danny and Baez hostageresurfaces\, and when Jaime arrests an intrusiv
	e reporter whoappears at a series of store lootings\, it leads to a stando
	ffbetween Frank and the Attorney General over the press' FirstAmendment ri
	ghts.
DTSTART:20210306T030000Z
DTEND:20210306T040000Z
END:VEVENT
END:VCALENDAR
