BEGIN:VCALENDAR
VERSION:2.0
PRODID:-//InvisionCommunity Events 4.7.23//EN
METHOD:PUBLISH
CALSCALE:GREGORIAN
REFRESH-INTERVAL:PT15M
X-PUBLISHED-TTL:PT15M
X-WR-CALNAME:Pogdesign
NAME:Pogdesign
BEGIN:VTIMEZONE
TZID:Europe/London
TZURL:http://tzurl.org/zoneinfo/Europe/London
X-LIC-LOCATION:Europe/London
BEGIN:DAYLIGHT
TZOFFSETFROM:+0000
TZOFFSETTO:+0100
TZNAME:BST
DTSTART:20210328T020000Z
RRULE:FREQ=YEARLY;BYMONTH=3;BYDAY=-1SU
END:DAYLIGHT
BEGIN:STANDARD
TZOFFSETFROM:+0100
TZOFFSETTO:+0000
TZNAME:GMT
DTSTART:20211031T020000Z
RRULE:FREQ=YEARLY;BYMONTH=10;BYDAY=-1SU
END:STANDARD
END:VTIMEZONE
BEGIN:VEVENT
SUMMARY:All American 3x7 - Roll the Dice
DTSTAMP:20210221T050359Z
SEQUENCE:0
UID:123990-3-841ebed20eb198c4569419e99b7bf40a@themidnightzone.com
ORGANIZER;CN="Midnight":midnight@themidnightzone.com
DESCRIPTION:With Coop performing in Las Vegas\, Spencer and some of theg
	ang take a road trip to see her and Layla on tour. Layla isnervous to see 
	Spencer and admit how she is feeling towardshim\, and surprisingly Spencer
	 also gets a little clarity onhis feelings. Olivia surprises the group las
	t minute\, but shenotices that Jordan and Simone are acting suspicious\, s
	o sheenlists Spencer's help to see what they are up to. Meanwhile\,with th
	e urging of Coop\, Patience tries stand up for herself\,but JP has other p
	lans leaving Patience stunned when shediscovers the reason why.
DTSTART:20210301T200000Z
DTEND:20210301T210000Z
END:VEVENT
END:VCALENDAR
