BEGIN:VCALENDAR
VERSION:2.0
PRODID:-//InvisionCommunity Events 4.7.23//EN
METHOD:PUBLISH
CALSCALE:GREGORIAN
REFRESH-INTERVAL:PT15M
X-PUBLISHED-TTL:PT15M
X-WR-CALNAME:Pogdesign
NAME:Pogdesign
BEGIN:VTIMEZONE
TZID:Europe/London
TZURL:http://tzurl.org/zoneinfo/Europe/London
X-LIC-LOCATION:Europe/London
BEGIN:DAYLIGHT
TZOFFSETFROM:+0000
TZOFFSETTO:+0100
TZNAME:BST
DTSTART:20210328T020000Z
RRULE:FREQ=YEARLY;BYMONTH=3;BYDAY=-1SU
END:DAYLIGHT
BEGIN:STANDARD
TZOFFSETFROM:+0100
TZOFFSETTO:+0000
TZNAME:GMT
DTSTART:20211031T020000Z
RRULE:FREQ=YEARLY;BYMONTH=10;BYDAY=-1SU
END:STANDARD
END:VTIMEZONE
BEGIN:VEVENT
SUMMARY:Batwoman 2x6 - Do Not Resuscitate
DTSTAMP:20210221T050359Z
SEQUENCE:0
UID:124010-3-841ebed20eb198c4569419e99b7bf40a@themidnightzone.com
ORGANIZER;CN="Midnight":midnight@themidnightzone.com
DESCRIPTION:As Ryan Wilder's Kryptonite wound grows more severe\, ithind
	ers Batwoman's ability to protect Gotham. Growing interestin reproducing t
	he serum from the Desert Rose puts Mary's andCommander Kane's lives in dan
	ger. Meanwhile\, Alice's reunionwith a fellow Coryana inhabitant presents 
	unexpectedcomplications.
DTSTART:20210228T200000Z
DTEND:20210228T210000Z
END:VEVENT
END:VCALENDAR
