BEGIN:VCALENDAR
VERSION:2.0
PRODID:-//InvisionCommunity Events 4.7.23//EN
METHOD:PUBLISH
CALSCALE:GREGORIAN
REFRESH-INTERVAL:PT15M
X-PUBLISHED-TTL:PT15M
X-WR-CALNAME:Pogdesign
NAME:Pogdesign
BEGIN:VTIMEZONE
TZID:Europe/London
TZURL:http://tzurl.org/zoneinfo/Europe/London
X-LIC-LOCATION:Europe/London
BEGIN:DAYLIGHT
TZOFFSETFROM:+0000
TZOFFSETTO:+0100
TZNAME:BST
DTSTART:20210328T020000Z
RRULE:FREQ=YEARLY;BYMONTH=3;BYDAY=-1SU
END:DAYLIGHT
BEGIN:STANDARD
TZOFFSETFROM:+0100
TZOFFSETTO:+0000
TZNAME:GMT
DTSTART:20211031T020000Z
RRULE:FREQ=YEARLY;BYMONTH=10;BYDAY=-1SU
END:STANDARD
END:VTIMEZONE
BEGIN:VEVENT
SUMMARY:Shameless (US) 11x9 - Survivors
DTSTAMP:20210308T092102Z
SEQUENCE:0
UID:124645-3-841ebed20eb198c4569419e99b7bf40a@themidnightzone.com
ORGANIZER;CN="Midnight":midnight@themidnightzone.com
DESCRIPTION:Frank wants to pull one last heist with the old gang. Debbie
	struggles with the idea of change and blames Lip\, while Lipand Brad find 
	out the new owners of BornFree are in the mob.Mickey and Ian learn a surpr
	ising truth about Terry's past\,and Liam tries to find a new place to live
	. Veronicareluctantly helps her mom to Louisville\, while Kevin is forcedt
	o watch Gemma and Amy while running the Alibi all on his own.Carl is put o
	n the eviction unit and reunited with an oldpartner.
DTSTART:20210321T210000Z
DTEND:20210321T220000Z
END:VEVENT
END:VCALENDAR
