BEGIN:VCALENDAR
VERSION:2.0
PRODID:-//InvisionCommunity Events 4.7.23//EN
METHOD:PUBLISH
CALSCALE:GREGORIAN
REFRESH-INTERVAL:PT15M
X-PUBLISHED-TTL:PT15M
X-WR-CALNAME:Pogdesign
NAME:Pogdesign
BEGIN:VTIMEZONE
TZID:Europe/London
TZURL:http://tzurl.org/zoneinfo/Europe/London
X-LIC-LOCATION:Europe/London
BEGIN:DAYLIGHT
TZOFFSETFROM:+0000
TZOFFSETTO:+0100
TZNAME:BST
DTSTART:20210328T020000Z
RRULE:FREQ=YEARLY;BYMONTH=3;BYDAY=-1SU
END:DAYLIGHT
BEGIN:STANDARD
TZOFFSETFROM:+0100
TZOFFSETTO:+0000
TZNAME:GMT
DTSTART:20211031T020000Z
RRULE:FREQ=YEARLY;BYMONTH=10;BYDAY=-1SU
END:STANDARD
END:VTIMEZONE
BEGIN:VEVENT
SUMMARY:Superman & Lois 1x5 - The Best of Smallville
DTSTAMP:20210310T092107Z
SEQUENCE:0
UID:124812-3-841ebed20eb198c4569419e99b7bf40a@themidnightzone.com
ORGANIZER;CN="Midnight":midnight@themidnightzone.com
DESCRIPTION:As Smallville celebrates its first Harvest Festival sinceMar
	tha's passing\, Clark is reminded what his mother meant tohim and learns a
	 lesson that will help him move past her death.Meanwhile\, Lois makes a br
	eakthrough in the investigation ofMorgan Edge. Lastly\, Kyle tries to reco
	nnect with Lana\, butit seems like he might be falling back into his old w
	ays.
DTSTART:20210323T210000Z
DTEND:20210323T220000Z
END:VEVENT
END:VCALENDAR
