BEGIN:VCALENDAR
VERSION:2.0
PRODID:-//InvisionCommunity Events 4.7.23//EN
METHOD:PUBLISH
CALSCALE:GREGORIAN
REFRESH-INTERVAL:PT15M
X-PUBLISHED-TTL:PT15M
X-WR-CALNAME:Pogdesign
NAME:Pogdesign
BEGIN:VTIMEZONE
TZID:Europe/London
TZURL:http://tzurl.org/zoneinfo/Europe/London
X-LIC-LOCATION:Europe/London
BEGIN:DAYLIGHT
TZOFFSETFROM:+0000
TZOFFSETTO:+0100
TZNAME:BST
DTSTART:20210328T020000Z
RRULE:FREQ=YEARLY;BYMONTH=3;BYDAY=-1SU
END:DAYLIGHT
BEGIN:STANDARD
TZOFFSETFROM:+0100
TZOFFSETTO:+0000
TZNAME:GMT
DTSTART:20211031T020000Z
RRULE:FREQ=YEARLY;BYMONTH=10;BYDAY=-1SU
END:STANDARD
END:VTIMEZONE
BEGIN:VEVENT
SUMMARY:Supergirl 6x1 - Rebirth
DTSTAMP:20210317T092103Z
SEQUENCE:0
UID:125212-3-841ebed20eb198c4569419e99b7bf40a@themidnightzone.com
ORGANIZER;CN="Midnight":midnight@themidnightzone.com
DESCRIPTION:As Brainiac lays close to death after trying to stop Lex\,Su
	pergirl and team soar in to save him\, engaging in an epicbattle with Game
	mnae. After beating Leviathan\, Supergirl turnsher attention to Lex who ha
	s used the Obsidian platform tobrainwash half the world to love him and fo
	llow him at allcosts\, no matter what horrible things he does. Knowing how
	dangerous this makes her brother\, Lena enlists the entire team- Alex\, J'
	onn \, Dreamer\, Kelly and Brainiac - to help\, butSupergirl realizes that
	 the only way to truly stop Lex is tosacrifice herself.
DTSTART:20210330T210000Z
DTEND:20210330T220000Z
END:VEVENT
END:VCALENDAR
