BEGIN:VCALENDAR
VERSION:2.0
PRODID:-//InvisionCommunity Events 4.7.23//EN
METHOD:PUBLISH
CALSCALE:GREGORIAN
REFRESH-INTERVAL:PT15M
X-PUBLISHED-TTL:PT15M
X-WR-CALNAME:At My TV
NAME:At My TV
BEGIN:VTIMEZONE
TZID:Europe/London
TZURL:http://tzurl.org/zoneinfo/Europe/London
X-LIC-LOCATION:Europe/London
BEGIN:DAYLIGHT
TZOFFSETFROM:+0000
TZOFFSETTO:+0100
TZNAME:BST
DTSTART:20210328T020000Z
RRULE:FREQ=YEARLY;BYMONTH=3;BYDAY=-1SU
END:DAYLIGHT
BEGIN:STANDARD
TZOFFSETFROM:+0100
TZOFFSETTO:+0000
TZNAME:GMT
DTSTART:20211031T020000Z
RRULE:FREQ=YEARLY;BYMONTH=10;BYDAY=-1SU
END:STANDARD
END:VTIMEZONE
BEGIN:VEVENT
SUMMARY:Walker 1x8 - Fine is a Four Letter Word
DTSTAMP:20210326T052055Z
SEQUENCE:0
UID:125615-2-841ebed20eb198c4569419e99b7bf40a@themidnightzone.com
ORGANIZER;CN="Midnight":midnight@themidnightzone.com
DESCRIPTION:A tornado touches down in Austin and it's all hands on deck 
	tokeep the kids and community safe. Walker\, Micki and Trey rushto the sch
	ool where Stella\, August and Ruby are at a schooldance. Bonham and Abelin
	e stop at a store for supplies whereold memories resurface and the two are
	 forced to discuss theirmarriage. Meanwhile\, Liam and Bret get trapped in
	 an elevatorand everything Liam has been carrying on his shoulders gets th
	ebest of him and he makes a rash decision. 
DTSTART:20210409T000000Z
DTEND:20210409T010000Z
END:VEVENT
END:VCALENDAR
