BEGIN:VCALENDAR
VERSION:2.0
PRODID:-//InvisionCommunity Events 4.7.23//EN
METHOD:PUBLISH
CALSCALE:GREGORIAN
REFRESH-INTERVAL:PT15M
X-PUBLISHED-TTL:PT15M
X-WR-CALNAME:Pogdesign
NAME:Pogdesign
BEGIN:VTIMEZONE
TZID:Europe/London
TZURL:http://tzurl.org/zoneinfo/Europe/London
X-LIC-LOCATION:Europe/London
BEGIN:DAYLIGHT
TZOFFSETFROM:+0000
TZOFFSETTO:+0100
TZNAME:BST
DTSTART:20210328T020000Z
RRULE:FREQ=YEARLY;BYMONTH=3;BYDAY=-1SU
END:DAYLIGHT
BEGIN:STANDARD
TZOFFSETFROM:+0100
TZOFFSETTO:+0000
TZNAME:GMT
DTSTART:20211031T020000Z
RRULE:FREQ=YEARLY;BYMONTH=10;BYDAY=-1SU
END:STANDARD
END:VTIMEZONE
BEGIN:VEVENT
SUMMARY:Invincible 1x5 - That Actually Hurt
DTSTAMP:20210327T092104Z
SEQUENCE:0
UID:125680-3-841ebed20eb198c4569419e99b7bf40a@themidnightzone.com
ORGANIZER;CN="Midnight":midnight@themidnightzone.com
DESCRIPTION:As Debbie finds Darkblood's notepad\, his notes correspond t
	oher suspicions\, and she finds the incriminating evidence whileNolan goes
	 on a timely errand. After Black Samson berates andlectures the others for
	 allowing civilian injuries to multiplyfrom fighting individually\, Robot 
	secretly approaches theMaulers with a job offer. Meanwhile\, Mark promises
	 to helpAmber at a soup kitchen as recompense for his time beingInvincible
	 ruining her trust in him with tardiness. However\,he must also help Titan
	 defeat his crime boss\, Machine Head\,who predicted their attack and hire
	d multiple villains forsecurity. The Guardians arrive to help but are prom
	ptlyoverwhelmed by Thokk\, the Battle Beast\, brutalizing them.Seeing the 
	other villains swiftly defeated\, Thokk is disgustedby the battle's ignomi
	ny and departs via a portal\, allowingthe GDA to arrest Machine Head. Afte
	r Invincible and others areMEDEVACed\, Titan then takes over Machine Head'
	s operation. Evealso volunteers to serve at the soup kitchen with Amber\,n
	eeding direction after fighting with her parents and quittingbeing a super
	hero. But she leaves when Cecil calls about Mark'shospitalization. Elsewhe
	re\, GDA scientists test some of Mark'sblood\, finding the cells invulnera
	ble to every lethal testthey run.
DTSTART:20210409T235900Z
DTEND:20210410T002900Z
END:VEVENT
END:VCALENDAR
