BEGIN:VCALENDAR
VERSION:2.0
PRODID:-//InvisionCommunity Events 4.7.23//EN
METHOD:PUBLISH
CALSCALE:GREGORIAN
REFRESH-INTERVAL:PT15M
X-PUBLISHED-TTL:PT15M
X-WR-CALNAME:Pogdesign
NAME:Pogdesign
BEGIN:VTIMEZONE
TZID:Europe/London
TZURL:http://tzurl.org/zoneinfo/Europe/London
X-LIC-LOCATION:Europe/London
BEGIN:DAYLIGHT
TZOFFSETFROM:+0000
TZOFFSETTO:+0100
TZNAME:BST
DTSTART:20210328T020000Z
RRULE:FREQ=YEARLY;BYMONTH=3;BYDAY=-1SU
END:DAYLIGHT
BEGIN:STANDARD
TZOFFSETFROM:+0100
TZOFFSETTO:+0000
TZNAME:GMT
DTSTART:20211031T020000Z
RRULE:FREQ=YEARLY;BYMONTH=10;BYDAY=-1SU
END:STANDARD
END:VTIMEZONE
BEGIN:VEVENT
SUMMARY:Black Lightning 4x7 - Painkiller
DTSTAMP:20210330T092104Z
SEQUENCE:0
UID:125798-3-841ebed20eb198c4569419e99b7bf40a@themidnightzone.com
ORGANIZER;CN="Midnight":midnight@themidnightzone.com
DESCRIPTION:After attempting to bury the darker\, devastatingly lethalPa
	inkiller part of his persona\, Khalil Payne has distancedhimself away from
	 everyone he knows and loves in a new city\,Akashic Valley\, in order to f
	ind peace... but peace nevercomes easy for men with pasts like Painkiller.
	 As his violent\,destructive history crashes his idyllic new beginning\, K
	halilis thrusted back into action with a new mission - bring justicewhere 
	he once gave out punishment - but to do that\, he willfirst have to deal w
	ith and harness his darker side\,Painkiller.
DTSTART:20210412T210000Z
DTEND:20210412T220000Z
END:VEVENT
END:VCALENDAR
