BEGIN:VCALENDAR
VERSION:2.0
PRODID:-//InvisionCommunity Events 4.7.23//EN
METHOD:PUBLISH
CALSCALE:GREGORIAN
REFRESH-INTERVAL:PT15M
X-PUBLISHED-TTL:PT15M
X-WR-CALNAME:Pogdesign
NAME:Pogdesign
BEGIN:VTIMEZONE
TZID:Europe/London
TZURL:http://tzurl.org/zoneinfo/Europe/London
X-LIC-LOCATION:Europe/London
BEGIN:DAYLIGHT
TZOFFSETFROM:+0000
TZOFFSETTO:+0100
TZNAME:BST
DTSTART:20210328T020000Z
RRULE:FREQ=YEARLY;BYMONTH=3;BYDAY=-1SU
END:DAYLIGHT
BEGIN:STANDARD
TZOFFSETFROM:+0100
TZOFFSETTO:+0000
TZNAME:GMT
DTSTART:20211031T020000Z
RRULE:FREQ=YEARLY;BYMONTH=10;BYDAY=-1SU
END:STANDARD
END:VTIMEZONE
BEGIN:VEVENT
SUMMARY:The Moodys 2x1 - Season 2\, Episode 1
DTSTAMP:20210401T172104Z
SEQUENCE:0
UID:125936-3-841ebed20eb198c4569419e99b7bf40a@themidnightzone.com
ORGANIZER;CN="Midnight":midnight@themidnightzone.com
DESCRIPTION:Sean Sr. is contemplating retirement - road trips across the
	country in an RV with Ann - while Sean Jr. takes over thefamily HVAC busin
	ess. In reality\, however\, Ann has nointention of leaving her new psychol
	ogy practice\, and Sean Jr.continues to brew up schemes to get rich quick.
	 Bridget\, whois in the midst of a divorce\, returns home while her fancy 
	newtownhouse is being renovated\; and Dan leaves Brooklyn forChicago to li
	ve with his girlfriend\, Cora\, only to realizethe relationship is moving 
	too quickly. Once again\, the Moodysare all under the same roof.
DTSTART:20210401T210000Z
DTEND:20210401T213000Z
END:VEVENT
END:VCALENDAR
