BEGIN:VCALENDAR
VERSION:2.0
PRODID:-//InvisionCommunity Events 4.7.23//EN
METHOD:PUBLISH
CALSCALE:GREGORIAN
REFRESH-INTERVAL:PT15M
X-PUBLISHED-TTL:PT15M
X-WR-CALNAME:At My TV
NAME:At My TV
BEGIN:VTIMEZONE
TZID:Europe/London
TZURL:http://tzurl.org/zoneinfo/Europe/London
X-LIC-LOCATION:Europe/London
BEGIN:DAYLIGHT
TZOFFSETFROM:+0000
TZOFFSETTO:+0100
TZNAME:BST
DTSTART:20210328T020000Z
RRULE:FREQ=YEARLY;BYMONTH=3;BYDAY=-1SU
END:DAYLIGHT
BEGIN:STANDARD
TZOFFSETFROM:+0100
TZOFFSETTO:+0000
TZNAME:GMT
DTSTART:20211031T020000Z
RRULE:FREQ=YEARLY;BYMONTH=10;BYDAY=-1SU
END:STANDARD
END:VTIMEZONE
BEGIN:VEVENT
SUMMARY:The Graham Norton Show 28x25 - Compilation 1
DTSTAMP:20210402T052054Z
SEQUENCE:0
UID:125943-2-841ebed20eb198c4569419e99b7bf40a@themidnightzone.com
ORGANIZER;CN="Midnight":midnight@themidnightzone.com
DESCRIPTION:The first of two compilations of highlights from the series\
	,featuring a host of stars including George Clooney\, GalGadot\, Tom Hanks
	\, Jessica Chastain\, Hugh Grant\, DollyParton\, Samuel L. Jackson\, Kylie
	 Minogue\, Arsène Wenger\,Nicola Adams\, Dua Lipa\, Bruce Springsteen\, K
	ristin ScottThomas\, Nicole Kidman\, Gary Barlow\, Viola Davis\, Michael J
	.Fox\, Tina Fey\, Emily Blunt\, Jamie Dornan\, Mariah Carey\,Bill Bailey a
	nd many more.
DTSTART:20210423T214500Z
DTEND:20210423T223500Z
END:VEVENT
END:VCALENDAR
