BEGIN:VCALENDAR
VERSION:2.0
PRODID:-//InvisionCommunity Events 4.7.23//EN
METHOD:PUBLISH
CALSCALE:GREGORIAN
REFRESH-INTERVAL:PT15M
X-PUBLISHED-TTL:PT15M
X-WR-CALNAME:Pogdesign
NAME:Pogdesign
BEGIN:VTIMEZONE
TZID:Europe/London
TZURL:http://tzurl.org/zoneinfo/Europe/London
X-LIC-LOCATION:Europe/London
BEGIN:DAYLIGHT
TZOFFSETFROM:+0000
TZOFFSETTO:+0100
TZNAME:BST
DTSTART:20210328T020000Z
RRULE:FREQ=YEARLY;BYMONTH=3;BYDAY=-1SU
END:DAYLIGHT
BEGIN:STANDARD
TZOFFSETFROM:+0100
TZOFFSETTO:+0000
TZNAME:GMT
DTSTART:20211031T020000Z
RRULE:FREQ=YEARLY;BYMONTH=10;BYDAY=-1SU
END:STANDARD
END:VTIMEZONE
BEGIN:VEVENT
SUMMARY:City on a Hill 2x4 - Overtime White and Overtime Stupid
DTSTAMP:20210405T092104Z
SEQUENCE:0
UID:126141-3-841ebed20eb198c4569419e99b7bf40a@themidnightzone.com
ORGANIZER;CN="Midnight":midnight@themidnightzone.com
DESCRIPTION:After seeing Holly in the ICU\, Jackie reckons with thedestr
	uctive consequences of his actions\, as Rickey Townsendprepares to testify
	 against Decourcy. With violenceintensifying between the Copeland Crew and
	 the Braxton Boys\,Decourcy\, Anton and Siobhan face off in the interrogat
	ionroom. Grace\, left reflecting on her role as a mother andleader in the 
	community\, makes an unfortunate miscalculation.And back at the Rohr house
	\, Jenny makes fast friends with themysterious woman from Belfast.
DTSTART:20210418T210000Z
DTEND:20210418T215000Z
END:VEVENT
END:VCALENDAR
