BEGIN:VCALENDAR
VERSION:2.0
PRODID:-//InvisionCommunity Events 4.7.23//EN
METHOD:PUBLISH
CALSCALE:GREGORIAN
REFRESH-INTERVAL:PT15M
X-PUBLISHED-TTL:PT15M
X-WR-CALNAME:Pogdesign
NAME:Pogdesign
BEGIN:VTIMEZONE
TZID:Europe/London
TZURL:http://tzurl.org/zoneinfo/Europe/London
X-LIC-LOCATION:Europe/London
BEGIN:DAYLIGHT
TZOFFSETFROM:+0000
TZOFFSETTO:+0100
TZNAME:BST
DTSTART:20210328T020000Z
RRULE:FREQ=YEARLY;BYMONTH=3;BYDAY=-1SU
END:DAYLIGHT
BEGIN:STANDARD
TZOFFSETFROM:+0100
TZOFFSETTO:+0000
TZNAME:GMT
DTSTART:20211031T020000Z
RRULE:FREQ=YEARLY;BYMONTH=10;BYDAY=-1SU
END:STANDARD
END:VTIMEZONE
BEGIN:VEVENT
SUMMARY:Mare of Easttown 1x2 - Fathers
DTSTAMP:20210412T092044Z
SEQUENCE:0
UID:126508-3-841ebed20eb198c4569419e99b7bf40a@themidnightzone.com
ORGANIZER;CN="Midnight":midnight@themidnightzone.com
DESCRIPTION:Mare visits a grisly murder scene before informing the victi
	m'senraged father. As a video from the night of the crimesurfaces\, Mare q
	uestions suspects in the case and gives an icywelcome to County Detective 
	Colin Zabel\, who's been called into assist. Later\, Mare bumps heads with
	 locals and airsconcerns about her grandson Drew in light of her late son'
	smental health struggles.
DTSTART:20210425T220000Z
DTEND:20210425T230000Z
END:VEVENT
END:VCALENDAR
