BEGIN:VCALENDAR
VERSION:2.0
PRODID:-//InvisionCommunity Events 4.7.23//EN
METHOD:PUBLISH
CALSCALE:GREGORIAN
REFRESH-INTERVAL:PT15M
X-PUBLISHED-TTL:PT15M
X-WR-CALNAME:At My TV
NAME:At My TV
BEGIN:VTIMEZONE
TZID:Europe/London
TZURL:http://tzurl.org/zoneinfo/Europe/London
X-LIC-LOCATION:Europe/London
BEGIN:DAYLIGHT
TZOFFSETFROM:+0000
TZOFFSETTO:+0100
TZNAME:BST
DTSTART:20210328T020000Z
RRULE:FREQ=YEARLY;BYMONTH=3;BYDAY=-1SU
END:DAYLIGHT
BEGIN:STANDARD
TZOFFSETFROM:+0100
TZOFFSETTO:+0000
TZNAME:GMT
DTSTART:20211031T020000Z
RRULE:FREQ=YEARLY;BYMONTH=10;BYDAY=-1SU
END:STANDARD
END:VTIMEZONE
BEGIN:VEVENT
SUMMARY:Call The Midwife 10x3 - Episode 3
DTSTAMP:20210418T052053Z
SEQUENCE:0
UID:126798-2-841ebed20eb198c4569419e99b7bf40a@themidnightzone.com
ORGANIZER;CN="Midnight":midnight@themidnightzone.com
DESCRIPTION:It's May 1966 and at clinic Shelagh examines an overweight l
	adywho is expecting her third child. Concerned about her weightgain and su
	bsequent symptoms\, she discusses the case withLucille\, who comes across 
	a new discovery.Dr Turner and SisterHilda are flummoxed by a young patient
	 whose health presents aseries of challenges. They become increasingly con
	cerned and dotheir best to get to the bottom of her unexplained ill health
	.
DTSTART:20210502T190000Z
DTEND:20210502T200000Z
END:VEVENT
END:VCALENDAR
