BEGIN:VCALENDAR
VERSION:2.0
PRODID:-//InvisionCommunity Events 4.7.23//EN
METHOD:PUBLISH
CALSCALE:GREGORIAN
REFRESH-INTERVAL:PT15M
X-PUBLISHED-TTL:PT15M
X-WR-CALNAME:Pogdesign
NAME:Pogdesign
BEGIN:VTIMEZONE
TZID:Europe/London
TZURL:http://tzurl.org/zoneinfo/Europe/London
X-LIC-LOCATION:Europe/London
BEGIN:DAYLIGHT
TZOFFSETFROM:+0000
TZOFFSETTO:+0100
TZNAME:BST
DTSTART:20210328T020000Z
RRULE:FREQ=YEARLY;BYMONTH=3;BYDAY=-1SU
END:DAYLIGHT
BEGIN:STANDARD
TZOFFSETFROM:+0100
TZOFFSETTO:+0000
TZNAME:GMT
DTSTART:20211031T020000Z
RRULE:FREQ=YEARLY;BYMONTH=10;BYDAY=-1SU
END:STANDARD
END:VTIMEZONE
BEGIN:VEVENT
SUMMARY:The Jonathan Ross Show 17x3 - Boy George\, Prue Leith\, BigZ
	uu\, Joanne McNally\, London Grammar
DTSTAMP:20210425T012116Z
SEQUENCE:0
UID:127082-3-841ebed20eb198c4569419e99b7bf40a@themidnightzone.com
ORGANIZER;CN="Midnight":midnight@themidnightzone.com
DESCRIPTION:The host welcomes Culture Club frontman Boy George\, GreatBr
	itish Bake Off judge Prue Leith\, rapper-turned-chef Big Zuuand comedian J
	oanne McNally to the sofa\, while indie-pop bandLondon Grammar chat and pe
	rform in the studio.
DTSTART:20210424T180000Z
DTEND:20210424T190000Z
END:VEVENT
END:VCALENDAR
