BEGIN:VCALENDAR
VERSION:2.0
PRODID:-//InvisionCommunity Events 4.7.23//EN
METHOD:PUBLISH
CALSCALE:GREGORIAN
REFRESH-INTERVAL:PT15M
X-PUBLISHED-TTL:PT15M
X-WR-CALNAME:At My TV
NAME:At My TV
BEGIN:VTIMEZONE
TZID:Europe/London
TZURL:http://tzurl.org/zoneinfo/Europe/London
X-LIC-LOCATION:Europe/London
BEGIN:DAYLIGHT
TZOFFSETFROM:+0000
TZOFFSETTO:+0100
TZNAME:BST
DTSTART:20210328T020000Z
RRULE:FREQ=YEARLY;BYMONTH=3;BYDAY=-1SU
END:DAYLIGHT
BEGIN:STANDARD
TZOFFSETFROM:+0100
TZOFFSETTO:+0000
TZNAME:GMT
DTSTART:20211031T020000Z
RRULE:FREQ=YEARLY;BYMONTH=10;BYDAY=-1SU
END:STANDARD
END:VTIMEZONE
BEGIN:VEVENT
SUMMARY:Call The Midwife 10x5 - Episode 5
DTSTAMP:20210502T052053Z
SEQUENCE:0
UID:127390-2-841ebed20eb198c4569419e99b7bf40a@themidnightzone.com
ORGANIZER;CN="Midnight":midnight@themidnightzone.com
DESCRIPTION:With sister Hilda away on a refresher course\, sister Julien
	nesteps in to carry out home visits. The new pupil midwives aresettling in
	 well\, and there is a sense of hope in theair.While examining expectant m
	other Vera Sands during aroutine visit\, sister Julienne is concerned by h
	er toddlerdaughter who is displaying troubling symptoms. Determined tofind
	 out what's wrong\, sister Julienne and doctor Turner areon the case.Meanw
	hile\, an overly protective mother strugglesto cope with her daughter's te
	enage pregnancy and is insistenton keeping it low key\, much to the frustr
	ation of new pupilmidwife Nancy Corrigan.
DTSTART:20210516T190000Z
DTEND:20210516T200000Z
END:VEVENT
END:VCALENDAR
