BEGIN:VCALENDAR
VERSION:2.0
PRODID:-//InvisionCommunity Events 4.7.23//EN
METHOD:PUBLISH
CALSCALE:GREGORIAN
REFRESH-INTERVAL:PT15M
X-PUBLISHED-TTL:PT15M
X-WR-CALNAME:At My TV
NAME:At My TV
BEGIN:VTIMEZONE
TZID:Europe/London
TZURL:http://tzurl.org/zoneinfo/Europe/London
X-LIC-LOCATION:Europe/London
BEGIN:DAYLIGHT
TZOFFSETFROM:+0000
TZOFFSETTO:+0100
TZNAME:BST
DTSTART:20210328T020000Z
RRULE:FREQ=YEARLY;BYMONTH=3;BYDAY=-1SU
END:DAYLIGHT
BEGIN:STANDARD
TZOFFSETFROM:+0100
TZOFFSETTO:+0000
TZNAME:GMT
DTSTART:20211031T020000Z
RRULE:FREQ=YEARLY;BYMONTH=10;BYDAY=-1SU
END:STANDARD
END:VTIMEZONE
BEGIN:VEVENT
SUMMARY:All American 3x12 - Fight the Power
DTSTAMP:20210504T052052Z
SEQUENCE:0
UID:127541-2-841ebed20eb198c4569419e99b7bf40a@themidnightzone.com
ORGANIZER;CN="Midnight":midnight@themidnightzone.com
DESCRIPTION:When the truth comes out\, Laura is furious and is left to f
	acethe consequences. Seeing everything going on\, Spencer doesn'twant to s
	it on the sidelines and asks something of histeammates that could jeopardi
	ze the rest of their season. Billydeals with something personal by himself
	\, but after aconversation with his dad he realizes what has really happen
	ed.Meanwhile\, Simone is worried about Jordan and turns to hisfriends for 
	help. 
DTSTART:20210518T000000Z
DTEND:20210518T010000Z
END:VEVENT
END:VCALENDAR
