BEGIN:VCALENDAR
VERSION:2.0
PRODID:-//InvisionCommunity Events 4.7.23//EN
METHOD:PUBLISH
CALSCALE:GREGORIAN
REFRESH-INTERVAL:PT15M
X-PUBLISHED-TTL:PT15M
X-WR-CALNAME:At My TV
NAME:At My TV
BEGIN:VTIMEZONE
TZID:Europe/London
TZURL:http://tzurl.org/zoneinfo/Europe/London
X-LIC-LOCATION:Europe/London
BEGIN:DAYLIGHT
TZOFFSETFROM:+0000
TZOFFSETTO:+0100
TZNAME:BST
DTSTART:20210328T020000Z
RRULE:FREQ=YEARLY;BYMONTH=3;BYDAY=-1SU
END:DAYLIGHT
BEGIN:STANDARD
TZOFFSETFROM:+0100
TZOFFSETTO:+0000
TZNAME:GMT
DTSTART:20211031T020000Z
RRULE:FREQ=YEARLY;BYMONTH=10;BYDAY=-1SU
END:STANDARD
END:VTIMEZONE
BEGIN:VEVENT
SUMMARY:Big Sky 1x16 - Love is a Strange and Dangerous Thing
DTSTAMP:20210505T052052Z
SEQUENCE:0
UID:127573-2-841ebed20eb198c4569419e99b7bf40a@themidnightzone.com
ORGANIZER;CN="Midnight":midnight@themidnightzone.com
DESCRIPTION:Cassie and Jenny leave the Kleinsasser women to forge their 
	ownpath\, ridding themselves of their ranch troubles and headingback home.
	 Along with Jerrie and Lindor\, they finally get tosee Ronald behind bars\
	, though he quickly strips them of anysatisfaction by leading them on a wi
	ld goose chase\, straightinto the arms of the syndicate. A brutal battle e
	nsues\,clearing a path for Scarlet and Ronald to escape\, but whilethey ru
	n off into the sunset Jenny risks her life to saveCassie's. Is this the en
	d for our dynamic duo?
DTSTART:20210519T020000Z
DTEND:20210519T030000Z
END:VEVENT
END:VCALENDAR
