BEGIN:VCALENDAR
VERSION:2.0
PRODID:-//InvisionCommunity Events 4.7.23//EN
METHOD:PUBLISH
CALSCALE:GREGORIAN
REFRESH-INTERVAL:PT15M
X-PUBLISHED-TTL:PT15M
X-WR-CALNAME:At My TV
NAME:At My TV
BEGIN:VTIMEZONE
TZID:Europe/London
TZURL:http://tzurl.org/zoneinfo/Europe/London
X-LIC-LOCATION:Europe/London
BEGIN:DAYLIGHT
TZOFFSETFROM:+0000
TZOFFSETTO:+0100
TZNAME:BST
DTSTART:20210328T020000Z
RRULE:FREQ=YEARLY;BYMONTH=3;BYDAY=-1SU
END:DAYLIGHT
BEGIN:STANDARD
TZOFFSETFROM:+0100
TZOFFSETTO:+0000
TZNAME:GMT
DTSTART:20211031T020000Z
RRULE:FREQ=YEARLY;BYMONTH=10;BYDAY=-1SU
END:STANDARD
END:VTIMEZONE
BEGIN:VEVENT
SUMMARY:Running Wild with Bear Grylls 6x8 - Bobby Bones and CaitlinP
	arker in the Sierra Nevada
DTSTAMP:20210507T052052Z
SEQUENCE:0
UID:127704-2-841ebed20eb198c4569419e99b7bf40a@themidnightzone.com
ORGANIZER;CN="Midnight":midnight@themidnightzone.com
DESCRIPTION:In a RUNNING WILD first\, Bear takes radio and televisionper
	sonality Bobby Bones back out into the wild\, this time withhis new fianc
	é\, Caitlin Parker. What better way to set out onthe adventure of marriag
	e than a wilderness boot camp with BearGrylls! Bear tests Bobby and Caitli
	n's ability to rely uponeach other out in the rugged wilderness of the eas
	tern SierraNevada\, where they track deadly mountain lions\, descend offto
	wering sandstone cliffs\, hunt for food under ice-coveredcascading waterfa
	lls and find out first-hand what the wild canteach us about the resilience
	 of love.
DTSTART:20210518T010000Z
DTEND:20210518T020000Z
END:VEVENT
END:VCALENDAR
