BEGIN:VCALENDAR
VERSION:2.0
PRODID:-//InvisionCommunity Events 4.7.23//EN
METHOD:PUBLISH
CALSCALE:GREGORIAN
REFRESH-INTERVAL:PT15M
X-PUBLISHED-TTL:PT15M
X-WR-CALNAME:At My TV
NAME:At My TV
BEGIN:VTIMEZONE
TZID:Europe/London
TZURL:http://tzurl.org/zoneinfo/Europe/London
X-LIC-LOCATION:Europe/London
BEGIN:DAYLIGHT
TZOFFSETFROM:+0000
TZOFFSETTO:+0100
TZNAME:BST
DTSTART:20210328T020000Z
RRULE:FREQ=YEARLY;BYMONTH=3;BYDAY=-1SU
END:DAYLIGHT
BEGIN:STANDARD
TZOFFSETFROM:+0100
TZOFFSETTO:+0000
TZNAME:GMT
DTSTART:20211031T020000Z
RRULE:FREQ=YEARLY;BYMONTH=10;BYDAY=-1SU
END:STANDARD
END:VTIMEZONE
BEGIN:VEVENT
SUMMARY:The Great British Sewing Bee 7x6 - Reduce Reuse Recycle Week
DTSTAMP:20210509T052053Z
SEQUENCE:0
UID:127798-2-841ebed20eb198c4569419e99b7bf40a@themidnightzone.com
ORGANIZER;CN="Midnight":midnight@themidnightzone.com
DESCRIPTION:The fashion industry is the biggest polluter of our planet n
	extto oil\, so The Great British Sewing Bee returns to Reduce\,Reuse and R
	ecycle Week\, with all the usual fabric in thehaberdashery being replaced 
	with charity shop clothes andsoft-furnishings. Host Joe Lycett kicks the s
	ix remaining homesewers off with a pattern for a gentleman's waistcoat usi
	ngjust second-hand clothes.In the Transformation Challenge\, thesewers are
	 tasked with changing items of army surplus into astylish and wearable gar
	ment for a woman.Finally\, the sewersare asked to use old jeans to create 
	a Made to Measure dress.Jeans are one of the most polluting garments to ma
	nufacture\,so to breathe a new lease of life into them\, the sewers mustcr
	eate a new denim dress that fits their model perfectly. Atthe end someone 
	will win Garment of the Week and the sixthsewer is asked to leave the Sewi
	ng Bee.
DTSTART:20210519T200000Z
DTEND:20210519T210000Z
END:VEVENT
END:VCALENDAR
