BEGIN:VCALENDAR
VERSION:2.0
PRODID:-//InvisionCommunity Events 4.7.23//EN
METHOD:PUBLISH
CALSCALE:GREGORIAN
REFRESH-INTERVAL:PT15M
X-PUBLISHED-TTL:PT15M
X-WR-CALNAME:Pogdesign
NAME:Pogdesign
BEGIN:VTIMEZONE
TZID:Europe/London
TZURL:http://tzurl.org/zoneinfo/Europe/London
X-LIC-LOCATION:Europe/London
BEGIN:DAYLIGHT
TZOFFSETFROM:+0000
TZOFFSETTO:+0100
TZNAME:BST
DTSTART:20210328T020000Z
RRULE:FREQ=YEARLY;BYMONTH=3;BYDAY=-1SU
END:DAYLIGHT
BEGIN:STANDARD
TZOFFSETFROM:+0100
TZOFFSETTO:+0000
TZNAME:GMT
DTSTART:20211031T020000Z
RRULE:FREQ=YEARLY;BYMONTH=10;BYDAY=-1SU
END:STANDARD
END:VTIMEZONE
BEGIN:VEVENT
SUMMARY:Black Monday 3x1 - TEN!
DTSTAMP:20210519T200003Z
SEQUENCE:0
UID:128191-3-841ebed20eb198c4569419e99b7bf40a@themidnightzone.com
ORGANIZER;CN="Midnight":midnight@themidnightzone.com
DESCRIPTION:It's 1989 and Mo makes his first big &amp\;quot:discovery&am
	p\;quot: asa newly minted jazz producer. Dawn's still serving time formast
	erminding Black Monday\, Blair learns the hard way how toplay politics\, a
	nd Keith discovers that the late LennyLeighman has some big follicles to f
	ill. Mo hatches a plot toget Dawn an early release.
DTSTART:20210523T220000Z
DTEND:20210523T230000Z
END:VEVENT
END:VCALENDAR
