BEGIN:VCALENDAR
VERSION:2.0
PRODID:-//InvisionCommunity Events 4.7.23//EN
METHOD:PUBLISH
CALSCALE:GREGORIAN
REFRESH-INTERVAL:PT15M
X-PUBLISHED-TTL:PT15M
X-WR-CALNAME:Pogdesign
NAME:Pogdesign
BEGIN:VTIMEZONE
TZID:Europe/London
TZURL:http://tzurl.org/zoneinfo/Europe/London
X-LIC-LOCATION:Europe/London
BEGIN:DAYLIGHT
TZOFFSETFROM:+0000
TZOFFSETTO:+0100
TZNAME:BST
DTSTART:20210328T020000Z
RRULE:FREQ=YEARLY;BYMONTH=3;BYDAY=-1SU
END:DAYLIGHT
BEGIN:STANDARD
TZOFFSETFROM:+0100
TZOFFSETTO:+0000
TZNAME:GMT
DTSTART:20211031T020000Z
RRULE:FREQ=YEARLY;BYMONTH=10;BYDAY=-1SU
END:STANDARD
END:VTIMEZONE
BEGIN:VEVENT
SUMMARY:Duncanville 2x5 - Party Like a Rocket Star
DTSTAMP:20210607T200001Z
SEQUENCE:0
UID:128952-3-841ebed20eb198c4569419e99b7bf40a@themidnightzone.com
ORGANIZER;CN="Midnight":midnight@themidnightzone.com
DESCRIPTION:Jack and Annie hijack a middle school party thrown by the co
	olkids\, to which Kimberly wasn't invited. They then devise aplan to get t
	he kids to their house\, so Kimberly can\"up\" her popularity game\, but t
	hings get out ofhand. Meanwhile\, Duncan and his friends work on creating 
	aviral video\, so they can become the next internet sensations.
DTSTART:20210614T203000Z
DTEND:20210614T210000Z
END:VEVENT
END:VCALENDAR
