BEGIN:VCALENDAR
VERSION:2.0
PRODID:-//InvisionCommunity Events 4.7.23//EN
METHOD:PUBLISH
CALSCALE:GREGORIAN
REFRESH-INTERVAL:PT15M
X-PUBLISHED-TTL:PT15M
X-WR-CALNAME:Pogdesign
NAME:Pogdesign
BEGIN:VTIMEZONE
TZID:Europe/London
TZURL:http://tzurl.org/zoneinfo/Europe/London
X-LIC-LOCATION:Europe/London
BEGIN:DAYLIGHT
TZOFFSETFROM:+0000
TZOFFSETTO:+0100
TZNAME:BST
DTSTART:20210328T020000Z
RRULE:FREQ=YEARLY;BYMONTH=3;BYDAY=-1SU
END:DAYLIGHT
BEGIN:STANDARD
TZOFFSETFROM:+0100
TZOFFSETTO:+0000
TZNAME:GMT
DTSTART:20211031T020000Z
RRULE:FREQ=YEARLY;BYMONTH=10;BYDAY=-1SU
END:STANDARD
END:VTIMEZONE
BEGIN:VEVENT
SUMMARY:DC's Legends of Tomorrow 6x8 - Stressed Western
DTSTAMP:20210614T040005Z
SEQUENCE:0
UID:129288-3-841ebed20eb198c4569419e99b7bf40a@themidnightzone.com
ORGANIZER;CN="Midnight":midnight@themidnightzone.com
DESCRIPTION:With everyone finally back together\, the Legends findthemse
	lves looking to Nate to keep everything calm while in theold West on a mis
	sion to find an alien. After trying to keepthings normal\, Sara reveals he
	r secret to Ava and the team\,leaving them all shocked. Constantine looks 
	to Gary who mighthave the answer to his problem. Spooner and Astra are for
	ced towork together despite their clashing personalities whichultimately h
	elps push them to hone their powers.
DTSTART:20210627T210000Z
DTEND:20210627T220000Z
END:VEVENT
END:VCALENDAR
