BEGIN:VCALENDAR
VERSION:2.0
PRODID:-//InvisionCommunity Events 4.7.23//EN
METHOD:PUBLISH
CALSCALE:GREGORIAN
REFRESH-INTERVAL:PT15M
X-PUBLISHED-TTL:PT15M
X-WR-CALNAME:At My TV
NAME:At My TV
BEGIN:VTIMEZONE
TZID:Europe/London
TZURL:http://tzurl.org/zoneinfo/Europe/London
X-LIC-LOCATION:Europe/London
BEGIN:DAYLIGHT
TZOFFSETFROM:+0000
TZOFFSETTO:+0100
TZNAME:BST
DTSTART:20210328T020000Z
RRULE:FREQ=YEARLY;BYMONTH=3;BYDAY=-1SU
END:DAYLIGHT
BEGIN:STANDARD
TZOFFSETFROM:+0100
TZOFFSETTO:+0000
TZNAME:GMT
DTSTART:20211031T020000Z
RRULE:FREQ=YEARLY;BYMONTH=10;BYDAY=-1SU
END:STANDARD
END:VTIMEZONE
BEGIN:VEVENT
SUMMARY:Diners\, Drive-Ins and Dives: Takeout 255x8 - Takeout:Shippe
	d\, Sweet & Savory
DTSTAMP:20210614T075918Z
SEQUENCE:0
UID:129311-2-841ebed20eb198c4569419e99b7bf40a@themidnightzone.com
ORGANIZER;CN="Midnight":midnight@themidnightzone.com
DESCRIPTION:Guy Fieri loves cooking at home and great restaurant food\, 
	sohe combines the best of both worlds by making some Triple-Dstyle takeout
	 with DDD alums who join Guy and Hunter via videochat. On this menu\, ther
	e's killer Cajun comin' from LosAngeles\, sweet and savory crepes out of L
	as Vegas\, empanadassent from Denver\, and legit barbecue straight out of 
	Taylor\,Texas.
DTSTART:20210626T010000Z
DTEND:20210626T013000Z
END:VEVENT
END:VCALENDAR
