BEGIN:VCALENDAR
VERSION:2.0
PRODID:-//InvisionCommunity Events 4.7.23//EN
METHOD:PUBLISH
CALSCALE:GREGORIAN
REFRESH-INTERVAL:PT15M
X-PUBLISHED-TTL:PT15M
X-WR-CALNAME:Pogdesign
NAME:Pogdesign
BEGIN:VTIMEZONE
TZID:Europe/London
TZURL:http://tzurl.org/zoneinfo/Europe/London
X-LIC-LOCATION:Europe/London
BEGIN:DAYLIGHT
TZOFFSETFROM:+0000
TZOFFSETTO:+0100
TZNAME:BST
DTSTART:20210328T020000Z
RRULE:FREQ=YEARLY;BYMONTH=3;BYDAY=-1SU
END:DAYLIGHT
BEGIN:STANDARD
TZOFFSETFROM:+0100
TZOFFSETTO:+0000
TZNAME:GMT
DTSTART:20211031T020000Z
RRULE:FREQ=YEARLY;BYMONTH=10;BYDAY=-1SU
END:STANDARD
END:VTIMEZONE
BEGIN:VEVENT
SUMMARY:DC's Legends of Tomorrow 6x9 - This Is Gus
DTSTAMP:20210628T040004Z
SEQUENCE:0
UID:129731-3-841ebed20eb198c4569419e99b7bf40a@themidnightzone.com
ORGANIZER;CN="Midnight":midnight@themidnightzone.com
DESCRIPTION:Behrad is disappointed because the Legends have forgotten hi
	sbirthday\, so when they track an alien pod to 2024 and wind upat his favo
	rite television sitcom\, he thinks it's really asurprise for him. Feeling 
	guilty\, Nate and Zari occupy Behradby keeping up the ruse by attending a 
	taping of the show whileAva\, Spooner and Astra try to find the Alien to g
	et thetimeline back on track. Meanwhile\, Rory's behavior has been alittle
	 off\, so Sara and Gary become determined to find outwhat happened\, but R
	ory gets some unexpected news from hisdaughter\, Lita.
DTSTART:20210711T200000Z
DTEND:20210711T210000Z
END:VEVENT
END:VCALENDAR
