BEGIN:VCALENDAR
VERSION:2.0
PRODID:-//InvisionCommunity Events 4.7.23//EN
METHOD:PUBLISH
CALSCALE:GREGORIAN
REFRESH-INTERVAL:PT15M
X-PUBLISHED-TTL:PT15M
X-WR-CALNAME:At My TV
NAME:At My TV
BEGIN:VTIMEZONE
TZID:Europe/London
TZURL:http://tzurl.org/zoneinfo/Europe/London
X-LIC-LOCATION:Europe/London
BEGIN:DAYLIGHT
TZOFFSETFROM:+0000
TZOFFSETTO:+0100
TZNAME:BST
DTSTART:20210328T020000Z
RRULE:FREQ=YEARLY;BYMONTH=3;BYDAY=-1SU
END:DAYLIGHT
BEGIN:STANDARD
TZOFFSETFROM:+0100
TZOFFSETTO:+0000
TZNAME:GMT
DTSTART:20211031T020000Z
RRULE:FREQ=YEARLY;BYMONTH=10;BYDAY=-1SU
END:STANDARD
END:VTIMEZONE
BEGIN:VEVENT
SUMMARY:The Celebrity Dating Game 1x4 - Nolan Gould and GabrielIgles
	ias
DTSTAMP:20210629T155913Z
SEQUENCE:0
UID:129792-2-841ebed20eb198c4569419e99b7bf40a@themidnightzone.com
ORGANIZER;CN="Midnight":midnight@themidnightzone.com
DESCRIPTION:\"Modern Family\" star Nolan Gould is looking for someonecon
	fident\, charismatic and passionate. Nolan asks thecontestants what five a
	djectives their best friends would useto describe them while Michael Bolt
	on performs a wittyrendition of \"What the World Needs Now.\" Meanwhile\, 
	GabrielIglesias\, stand-up comic and sitcom star\, describes himselfas \"c
	uddly\" and asks contestants their favorite way to cuddle.Michael Bolton s
	ings \"Because You Loved Me\" to help the womenguess Gabriel's identity
DTSTART:20210713T020000Z
DTEND:20210713T030000Z
END:VEVENT
END:VCALENDAR
