BEGIN:VCALENDAR
VERSION:2.0
PRODID:-//InvisionCommunity Events 4.7.23//EN
METHOD:PUBLISH
CALSCALE:GREGORIAN
REFRESH-INTERVAL:PT15M
X-PUBLISHED-TTL:PT15M
X-WR-CALNAME:Pogdesign
NAME:Pogdesign
BEGIN:VTIMEZONE
TZID:Europe/London
TZURL:http://tzurl.org/zoneinfo/Europe/London
X-LIC-LOCATION:Europe/London
BEGIN:DAYLIGHT
TZOFFSETFROM:+0000
TZOFFSETTO:+0100
TZNAME:BST
DTSTART:20210328T020000Z
RRULE:FREQ=YEARLY;BYMONTH=3;BYDAY=-1SU
END:DAYLIGHT
BEGIN:STANDARD
TZOFFSETFROM:+0100
TZOFFSETTO:+0000
TZNAME:GMT
DTSTART:20211031T020000Z
RRULE:FREQ=YEARLY;BYMONTH=10;BYDAY=-1SU
END:STANDARD
END:VTIMEZONE
BEGIN:VEVENT
SUMMARY:Dynasty 4x11 - A Public Forum for Her Lies
DTSTAMP:20210703T040005Z
SEQUENCE:0
UID:129941-3-841ebed20eb198c4569419e99b7bf40a@themidnightzone.com
ORGANIZER;CN="Midnight":midnight@themidnightzone.com
DESCRIPTION:As Fallon prepares for her impending IPO\, she reluctantlytu
	rns to Blake for help. Anders confronts Alexis and about hermachinations a
	nd Anders regales her with his plans forretaliation. Meanwhile\, Sam and C
	ulhane hit some roadblocks intheir new partnership. Dominique receives a p
	otential break inher fashion career. Lastly\, Adam becomes frustrated with
	Cristal.
DTSTART:20210723T210000Z
DTEND:20210723T220000Z
END:VEVENT
END:VCALENDAR
