BEGIN:VCALENDAR
VERSION:2.0
PRODID:-//InvisionCommunity Events 4.7.23//EN
METHOD:PUBLISH
CALSCALE:GREGORIAN
REFRESH-INTERVAL:PT15M
X-PUBLISHED-TTL:PT15M
X-WR-CALNAME:Pogdesign
NAME:Pogdesign
BEGIN:VTIMEZONE
TZID:Europe/London
TZURL:http://tzurl.org/zoneinfo/Europe/London
X-LIC-LOCATION:Europe/London
BEGIN:DAYLIGHT
TZOFFSETFROM:+0000
TZOFFSETTO:+0100
TZNAME:BST
DTSTART:20210328T020000Z
RRULE:FREQ=YEARLY;BYMONTH=3;BYDAY=-1SU
END:DAYLIGHT
BEGIN:STANDARD
TZOFFSETFROM:+0100
TZOFFSETTO:+0000
TZNAME:GMT
DTSTART:20211031T020000Z
RRULE:FREQ=YEARLY;BYMONTH=10;BYDAY=-1SU
END:STANDARD
END:VTIMEZONE
BEGIN:VEVENT
SUMMARY:DC's Legends of Tomorrow 6x10 - Bad Blood
DTSTAMP:20210705T040004Z
SEQUENCE:0
UID:130006-3-841ebed20eb198c4569419e99b7bf40a@themidnightzone.com
ORGANIZER;CN="Midnight":midnight@themidnightzone.com
DESCRIPTION:With Constantine obsessed with getting his powers back\, hec
	onvinces Spooner to join him on the quest to find the Fountainof Imperium.
	 After they find themselves at the end of theSpanish Civil War\, Spooner m
	akes an unexpected bond withsomeone she feels the need to protect. Meanwhi
	le\, Sara andLita are concerned about Rory's health\, so they try toconvin
	ce him to take it seriously.
DTSTART:20210718T200000Z
DTEND:20210718T210000Z
END:VEVENT
END:VCALENDAR
