BEGIN:VCALENDAR
VERSION:2.0
PRODID:-//InvisionCommunity Events 4.7.23//EN
METHOD:PUBLISH
CALSCALE:GREGORIAN
REFRESH-INTERVAL:PT15M
X-PUBLISHED-TTL:PT15M
X-WR-CALNAME:At My TV
NAME:At My TV
BEGIN:VTIMEZONE
TZID:Europe/London
TZURL:http://tzurl.org/zoneinfo/Europe/London
X-LIC-LOCATION:Europe/London
BEGIN:DAYLIGHT
TZOFFSETFROM:+0000
TZOFFSETTO:+0100
TZNAME:BST
DTSTART:20210328T020000Z
RRULE:FREQ=YEARLY;BYMONTH=3;BYDAY=-1SU
END:DAYLIGHT
BEGIN:STANDARD
TZOFFSETFROM:+0100
TZOFFSETTO:+0000
TZNAME:GMT
DTSTART:20211031T020000Z
RRULE:FREQ=YEARLY;BYMONTH=10;BYDAY=-1SU
END:STANDARD
END:VTIMEZONE
BEGIN:VEVENT
SUMMARY:The Celebrity Dating Game 1x5 - Tyson Beckford and CarmenEle
	ctra
DTSTAMP:20210706T075907Z
SEQUENCE:0
UID:130038-2-841ebed20eb198c4569419e99b7bf40a@themidnightzone.com
ORGANIZER;CN="Midnight":midnight@themidnightzone.com
DESCRIPTION:Supermodel Tyson Beckford is looking for an adventurous woma
	nwho has a great sense of humor. Tyson has spent a lot of timeon runways s
	howing off clothes and asks the women to describean outfit they would feel
	 most confident in while MichaelBolton performs a parody of \"Let's Stay T
	ogether.\" Meanwhile\,\"Baywatch\" and \"Singled Out\" actress Carmen Elec
	tra expressesshe is into \"vibes.\" Carmen asks the potential suitors tode
	scribe their vibe in one sentence. Michael Bolton sings\"Ain't No Sunshine
	\" to help the suitors guess Carmen'sidentity.\n\n\n\n 
DTSTART:20210720T020000Z
DTEND:20210720T030000Z
END:VEVENT
END:VCALENDAR
