BEGIN:VCALENDAR
VERSION:2.0
PRODID:-//InvisionCommunity Events 4.7.23//EN
METHOD:PUBLISH
CALSCALE:GREGORIAN
REFRESH-INTERVAL:PT15M
X-PUBLISHED-TTL:PT15M
X-WR-CALNAME:At My TV
NAME:At My TV
BEGIN:VTIMEZONE
TZID:Europe/London
TZURL:http://tzurl.org/zoneinfo/Europe/London
X-LIC-LOCATION:Europe/London
BEGIN:DAYLIGHT
TZOFFSETFROM:+0000
TZOFFSETTO:+0100
TZNAME:BST
DTSTART:20210328T020000Z
RRULE:FREQ=YEARLY;BYMONTH=3;BYDAY=-1SU
END:DAYLIGHT
BEGIN:STANDARD
TZOFFSETFROM:+0100
TZOFFSETTO:+0000
TZNAME:GMT
DTSTART:20211031T020000Z
RRULE:FREQ=YEARLY;BYMONTH=10;BYDAY=-1SU
END:STANDARD
END:VTIMEZONE
BEGIN:VEVENT
SUMMARY:All American 3x19 - Surviving the Times
DTSTAMP:20210706T075907Z
SEQUENCE:0
UID:130046-2-841ebed20eb198c4569419e99b7bf40a@themidnightzone.com
ORGANIZER;CN="Midnight":midnight@themidnightzone.com
DESCRIPTION:Things in Spencer's life seem to be going right\, buteveryth
	ing changes when Billy learns what he has been keepingfrom him. Jordan and
	 Asher get some unexpected news neither ofthem were expecting. Coop is exc
	ited to go out on tour but isdisappointed when no one from her team can ac
	company her andshe gets more than she was anticipating. Meanwhile\, Laylag
	rows worried about her friend and is determined to help her.
DTSTART:20210720T000000Z
DTEND:20210720T010000Z
END:VEVENT
END:VCALENDAR
