BEGIN:VCALENDAR
VERSION:2.0
PRODID:-//InvisionCommunity Events 4.7.23//EN
METHOD:PUBLISH
CALSCALE:GREGORIAN
REFRESH-INTERVAL:PT15M
X-PUBLISHED-TTL:PT15M
X-WR-CALNAME:Pogdesign
NAME:Pogdesign
BEGIN:VTIMEZONE
TZID:Europe/London
TZURL:http://tzurl.org/zoneinfo/Europe/London
X-LIC-LOCATION:Europe/London
BEGIN:DAYLIGHT
TZOFFSETFROM:+0000
TZOFFSETTO:+0100
TZNAME:BST
DTSTART:20210328T020000Z
RRULE:FREQ=YEARLY;BYMONTH=3;BYDAY=-1SU
END:DAYLIGHT
BEGIN:STANDARD
TZOFFSETFROM:+0100
TZOFFSETTO:+0000
TZNAME:GMT
DTSTART:20211031T020000Z
RRULE:FREQ=YEARLY;BYMONTH=10;BYDAY=-1SU
END:STANDARD
END:VTIMEZONE
BEGIN:VEVENT
SUMMARY:Forged in Fire 8x28 - The Terrifying Tuareg Takoba
DTSTAMP:20210707T040005Z
SEQUENCE:0
UID:130088-3-841ebed20eb198c4569419e99b7bf40a@themidnightzone.com
ORGANIZER;CN="Midnight":midnight@themidnightzone.com
DESCRIPTION:Four smiths turn a pile of rusty old nails into a pristinekn
	ife. After their weapons are hammered in testing\, the twosurviving compet
	itors return home to recreate the terrifyingNorth African Tuareg Takoba. W
	hen they return to the forge\,another brutal round of tests will determine
	 which smith reallyhit the nail on the head and will win \,000 and the tit
	le ofForged in Fire Champion.
DTSTART:20210707T210000Z
DTEND:20210707T220000Z
END:VEVENT
END:VCALENDAR
