BEGIN:VCALENDAR
VERSION:2.0
PRODID:-//InvisionCommunity Events 4.7.23//EN
METHOD:PUBLISH
CALSCALE:GREGORIAN
REFRESH-INTERVAL:PT15M
X-PUBLISHED-TTL:PT15M
X-WR-CALNAME:Pogdesign
NAME:Pogdesign
BEGIN:VTIMEZONE
TZID:Europe/London
TZURL:http://tzurl.org/zoneinfo/Europe/London
X-LIC-LOCATION:Europe/London
BEGIN:DAYLIGHT
TZOFFSETFROM:+0000
TZOFFSETTO:+0100
TZNAME:BST
DTSTART:20210328T020000Z
RRULE:FREQ=YEARLY;BYMONTH=3;BYDAY=-1SU
END:DAYLIGHT
BEGIN:STANDARD
TZOFFSETFROM:+0100
TZOFFSETTO:+0000
TZNAME:GMT
DTSTART:20211031T020000Z
RRULE:FREQ=YEARLY;BYMONTH=10;BYDAY=-1SU
END:STANDARD
END:VTIMEZONE
BEGIN:VEVENT
SUMMARY:Guy's Grocery Games 27x3 - DDD Summer Games\, Part 3: CampCo
	ok-Off
DTSTAMP:20210708T040006Z
SEQUENCE:0
UID:130123-3-841ebed20eb198c4569419e99b7bf40a@themidnightzone.com
ORGANIZER;CN="Midnight":midnight@themidnightzone.com
DESCRIPTION:Guy Fieri's summer tournament continues with three DDD chefs
	competing in camping-themed games. First\, they must make afireside pork d
	inner using only items they can throw in a smallbackpack while following a
	 narrow trail that bypasses half theaisles and avoiding trail dangers such
	 as a wild bear andfalling rocks. Then the two top-scoring chefs must try 
	theirluck with Hunter Fieri's slingshot\, knocking down the canneditems th
	ey don't want to feature in their grilled fish feast.The chef who hooks th
	e highest combined score gets the catch ofthe day - \,000 - plus a spot in
	 the tournament finale.
DTSTART:20210721T210000Z
DTEND:20210721T213000Z
END:VEVENT
END:VCALENDAR
