BEGIN:VCALENDAR
VERSION:2.0
PRODID:-//InvisionCommunity Events 4.7.23//EN
METHOD:PUBLISH
CALSCALE:GREGORIAN
REFRESH-INTERVAL:PT15M
X-PUBLISHED-TTL:PT15M
X-WR-CALNAME:Pogdesign
NAME:Pogdesign
BEGIN:VTIMEZONE
TZID:Europe/London
TZURL:http://tzurl.org/zoneinfo/Europe/London
X-LIC-LOCATION:Europe/London
BEGIN:DAYLIGHT
TZOFFSETFROM:+0000
TZOFFSETTO:+0100
TZNAME:BST
DTSTART:20210328T020000Z
RRULE:FREQ=YEARLY;BYMONTH=3;BYDAY=-1SU
END:DAYLIGHT
BEGIN:STANDARD
TZOFFSETFROM:+0100
TZOFFSETTO:+0000
TZNAME:GMT
DTSTART:20211031T020000Z
RRULE:FREQ=YEARLY;BYMONTH=10;BYDAY=-1SU
END:STANDARD
END:VTIMEZONE
BEGIN:VEVENT
SUMMARY:The Mysterious Benedict Society 1x6 - Run Silent\, Run Deep
DTSTAMP:20210710T040005Z
SEQUENCE:0
UID:130155-3-841ebed20eb198c4569419e99b7bf40a@themidnightzone.com
ORGANIZER;CN="Midnight":midnight@themidnightzone.com
DESCRIPTION:Mr. Benedict reveals the truth about his past with Dr. Curta
	in- and how he may be partly to blame for Curtain's misdeeds. Theadults ag
	ree the mission has gotten too dangerous to continue.Sticky is given a spe
	cial task during Messenger duty and beginsto question his loyalties. Kate 
	and Reynie develop theirrespective friendships with Martina and Curtain's 
	son\, SQ\,and use them to advance the mission.
DTSTART:20210723T235900Z
DTEND:20210724T005900Z
END:VEVENT
END:VCALENDAR
