BEGIN:VCALENDAR
VERSION:2.0
PRODID:-//InvisionCommunity Events 4.7.23//EN
METHOD:PUBLISH
CALSCALE:GREGORIAN
REFRESH-INTERVAL:PT15M
X-PUBLISHED-TTL:PT15M
X-WR-CALNAME:Pogdesign
NAME:Pogdesign
BEGIN:VTIMEZONE
TZID:Europe/London
TZURL:http://tzurl.org/zoneinfo/Europe/London
X-LIC-LOCATION:Europe/London
BEGIN:DAYLIGHT
TZOFFSETFROM:+0000
TZOFFSETTO:+0100
TZNAME:BST
DTSTART:20210328T020000Z
RRULE:FREQ=YEARLY;BYMONTH=3;BYDAY=-1SU
END:DAYLIGHT
BEGIN:STANDARD
TZOFFSETFROM:+0100
TZOFFSETTO:+0000
TZNAME:GMT
DTSTART:20211031T020000Z
RRULE:FREQ=YEARLY;BYMONTH=10;BYDAY=-1SU
END:STANDARD
END:VTIMEZONE
BEGIN:VEVENT
SUMMARY:The White Lotus 1x3 - Mysterious Monkeys
DTSTAMP:20210712T040005Z
SEQUENCE:0
UID:130191-3-841ebed20eb198c4569419e99b7bf40a@themidnightzone.com
ORGANIZER;CN="Midnight":midnight@themidnightzone.com
DESCRIPTION:Stripped of his gadgets\, Quinn reluctantly takes a scuba cl
	asswith Mark\, who's struggling to process revelations regardinghis late f
	ather. Hoping to reignite the spark with Rachel\,Shane enlists Armond to h
	elp plan a romantic evening. Tanyaleans on Belinda for support as she scat
	ters her mother's ashesat sea. Paula keeps a secret from a suspicious Oliv
	ia.
DTSTART:20210725T210000Z
DTEND:20210725T220000Z
END:VEVENT
END:VCALENDAR
