BEGIN:VCALENDAR
VERSION:2.0
PRODID:-//InvisionCommunity Events 4.7.23//EN
METHOD:PUBLISH
CALSCALE:GREGORIAN
REFRESH-INTERVAL:PT15M
X-PUBLISHED-TTL:PT15M
X-WR-CALNAME:Pogdesign
NAME:Pogdesign
BEGIN:VTIMEZONE
TZID:Europe/London
TZURL:http://tzurl.org/zoneinfo/Europe/London
X-LIC-LOCATION:Europe/London
BEGIN:DAYLIGHT
TZOFFSETFROM:+0000
TZOFFSETTO:+0100
TZNAME:BST
DTSTART:20210328T020000Z
RRULE:FREQ=YEARLY;BYMONTH=3;BYDAY=-1SU
END:DAYLIGHT
BEGIN:STANDARD
TZOFFSETFROM:+0100
TZOFFSETTO:+0000
TZNAME:GMT
DTSTART:20211031T020000Z
RRULE:FREQ=YEARLY;BYMONTH=10;BYDAY=-1SU
END:STANDARD
END:VTIMEZONE
BEGIN:VEVENT
SUMMARY:Forged in Fire 8x31 - Armed Forces Tournament\, Part 2
DTSTAMP:20210728T040004Z
SEQUENCE:0
UID:130409-3-841ebed20eb198c4569419e99b7bf40a@themidnightzone.com
ORGANIZER;CN="Midnight":midnight@themidnightzone.com
DESCRIPTION:In the second part of the Armed Forces Tournament\, four U.S
	.service members redeploy to the forge floor to go head to headin one five
	-hour battle. Up first it's the Champions Duel wheretwo Forged in Fire win
	ners battle it out. Next\, the SergeantsDuel\, pits a sergeant from the Ar
	my against a sergeant fromthe Air Force. Which two smiths will come out on
	 top andadvance to the final round of the Armed Forces Tournament?
DTSTART:20210728T210000Z
DTEND:20210728T220000Z
END:VEVENT
END:VCALENDAR
