BEGIN:VCALENDAR
VERSION:2.0
PRODID:-//InvisionCommunity Events 4.7.23//EN
METHOD:PUBLISH
CALSCALE:GREGORIAN
REFRESH-INTERVAL:PT15M
X-PUBLISHED-TTL:PT15M
X-WR-CALNAME:Pogdesign
NAME:Pogdesign
BEGIN:VTIMEZONE
TZID:Europe/London
TZURL:http://tzurl.org/zoneinfo/Europe/London
X-LIC-LOCATION:Europe/London
BEGIN:DAYLIGHT
TZOFFSETFROM:+0000
TZOFFSETTO:+0100
TZNAME:BST
DTSTART:20210328T020000Z
RRULE:FREQ=YEARLY;BYMONTH=3;BYDAY=-1SU
END:DAYLIGHT
BEGIN:STANDARD
TZOFFSETFROM:+0100
TZOFFSETTO:+0000
TZNAME:GMT
DTSTART:20211031T020000Z
RRULE:FREQ=YEARLY;BYMONTH=10;BYDAY=-1SU
END:STANDARD
END:VTIMEZONE
BEGIN:VEVENT
SUMMARY:The L Word: Generation Q 2x2 - Lean On Me
DTSTAMP:20210731T040005Z
SEQUENCE:0
UID:130484-3-841ebed20eb198c4569419e99b7bf40a@themidnightzone.com
ORGANIZER;CN="Midnight":midnight@themidnightzone.com
DESCRIPTION:Bette makes big moves at her new job as she also navigates a
	surprising new relationship\, Shane vies to get Tess on boardwith a fresh 
	idea for the bar\, and Alice is met with anunexpected roadblock on the way
	 to releasing her book as shetries to figure out whether Nat's hiding some
	thing from her.Meanwhile\, Sophie\, Dani and Finley are all left to deal w
	iththe fallout of a shocking event as Micah grapples with the truenature o
	f his relationship with José.
DTSTART:20210815T220000Z
DTEND:20210815T230000Z
END:VEVENT
END:VCALENDAR
