BEGIN:VCALENDAR
VERSION:2.0
PRODID:-//InvisionCommunity Events 4.7.23//EN
METHOD:PUBLISH
CALSCALE:GREGORIAN
REFRESH-INTERVAL:PT15M
X-PUBLISHED-TTL:PT15M
X-WR-CALNAME:Pogdesign
NAME:Pogdesign
BEGIN:VTIMEZONE
TZID:Europe/London
TZURL:http://tzurl.org/zoneinfo/Europe/London
X-LIC-LOCATION:Europe/London
BEGIN:DAYLIGHT
TZOFFSETFROM:+0000
TZOFFSETTO:+0100
TZNAME:BST
DTSTART:20210328T020000Z
RRULE:FREQ=YEARLY;BYMONTH=3;BYDAY=-1SU
END:DAYLIGHT
BEGIN:STANDARD
TZOFFSETFROM:+0100
TZOFFSETTO:+0000
TZNAME:GMT
DTSTART:20211031T020000Z
RRULE:FREQ=YEARLY;BYMONTH=10;BYDAY=-1SU
END:STANDARD
END:VTIMEZONE
BEGIN:VEVENT
SUMMARY:Guy's Grocery Games 27x6 - All-Star Egg-stravaganza
DTSTAMP:20210804T040005Z
SEQUENCE:0
UID:130526-3-841ebed20eb198c4569419e99b7bf40a@themidnightzone.com
ORGANIZER;CN="Midnight":midnight@themidnightzone.com
DESCRIPTION:Chef Antonia Lofaso and Guy Fieri's son Hunter pull a prank 
	onGuy by turning this all-star competition into a full-on EGGepisode - eve
	n though Guy hates eggs! First\, the all-starchefs get 15 minutes to make 
	an egg dish Guy would actuallyeat. They get points based on how many bites
	\, if any\, Guytakes of each dish. Then the chefs must use specialty eggs 
	andnine other ingredients to make an upscale egg dish. The chefthat whips 
	up the highest score gets the choice of amoney-making shopping spree or a 
	jumbo check hidden behind thestore's sliding doors!
DTSTART:20210811T210000Z
DTEND:20210811T213000Z
END:VEVENT
END:VCALENDAR
